BEGIN:VCALENDAR
VERSION:2.0
PRODID:-//Annex Wealth Management - ECPv6.15.20//NONSGML v1.0//EN
CALSCALE:GREGORIAN
METHOD:PUBLISH
X-WR-CALNAME:Annex Wealth Management
X-ORIGINAL-URL:https://events.annexwealth.com
X-WR-CALDESC:Events for Annex Wealth Management
REFRESH-INTERVAL;VALUE=DURATION:PT1H
X-Robots-Tag:noindex
X-PUBLISHED-TTL:PT1H
BEGIN:VTIMEZONE
TZID:America/Chicago
BEGIN:DAYLIGHT
TZOFFSETFROM:-0600
TZOFFSETTO:-0500
TZNAME:CDT
DTSTART:20250309T080000
END:DAYLIGHT
BEGIN:STANDARD
TZOFFSETFROM:-0500
TZOFFSETTO:-0600
TZNAME:CST
DTSTART:20251102T070000
END:STANDARD
BEGIN:DAYLIGHT
TZOFFSETFROM:-0600
TZOFFSETTO:-0500
TZNAME:CDT
DTSTART:20260308T080000
END:DAYLIGHT
BEGIN:STANDARD
TZOFFSETFROM:-0500
TZOFFSETTO:-0600
TZNAME:CST
DTSTART:20261101T070000
END:STANDARD
BEGIN:DAYLIGHT
TZOFFSETFROM:-0600
TZOFFSETTO:-0500
TZNAME:CDT
DTSTART:20270314T080000
END:DAYLIGHT
BEGIN:STANDARD
TZOFFSETFROM:-0500
TZOFFSETTO:-0600
TZNAME:CST
DTSTART:20271107T070000
END:STANDARD
END:VTIMEZONE
BEGIN:VEVENT
DTSTART;TZID=America/Chicago:20260318T090000
DTEND;TZID=America/Chicago:20260318T120000
DTSTAMP:20260424T141004
CREATED:20260223T194523Z
LAST-MODIFIED:20260225T131417Z
UID:1380970-1773824400-1773835200@events.annexwealth.com
SUMMARY:WOMEN & WEALTH | Leverage Your Health As Your Greatest Wealth | 3/18/2026
DESCRIPTION:Your health plays a powerful role in your financial well-being and long-term independence. This interactive 3-hour workshop brings together community members and trusted professionals to explore how healthy choices today can support aging in place\, reduce future costs\, and enhance quality of life. Through expert-led discussions and interactive exhibits\, you’ll gain practical insights into staying healthy\, financially prepared\, and sustaining independence – on your terms – for years to come. \nAll of the Women & Wealth events are complementary. Reservations are required.
URL:https://events.annexwealth.com/event/women-wealth-leverage-your-health-as-your-greatest-wealth-3-18-2026/
LOCATION:Annex Wealth Management Headquarters\, 17950 W Corporate Drive Suite 300\, Brookfield\, WI\, 07045\, United States
CATEGORIES:Women & Wealth
ATTACH;FMTTYPE=image/jpeg:https://events.annexwealth.com/wp-content/uploads/sites/3/2026/02/WW-leverage-your-health-as-your-greatest-wealth.jpg
END:VEVENT
END:VCALENDAR