BEGIN:VCALENDAR
VERSION:2.0
PRODID:-//Annex Wealth Management - ECPv6.15.20//NONSGML v1.0//EN
CALSCALE:GREGORIAN
METHOD:PUBLISH
X-ORIGINAL-URL:https://events.annexwealth.com
X-WR-CALDESC:Events for Annex Wealth Management
REFRESH-INTERVAL;VALUE=DURATION:PT1H
X-Robots-Tag:noindex
X-PUBLISHED-TTL:PT1H
BEGIN:VTIMEZONE
TZID:America/Chicago
BEGIN:DAYLIGHT
TZOFFSETFROM:-0600
TZOFFSETTO:-0500
TZNAME:CDT
DTSTART:20240310T080000
END:DAYLIGHT
BEGIN:STANDARD
TZOFFSETFROM:-0500
TZOFFSETTO:-0600
TZNAME:CST
DTSTART:20241103T070000
END:STANDARD
BEGIN:DAYLIGHT
TZOFFSETFROM:-0600
TZOFFSETTO:-0500
TZNAME:CDT
DTSTART:20250309T080000
END:DAYLIGHT
BEGIN:STANDARD
TZOFFSETFROM:-0500
TZOFFSETTO:-0600
TZNAME:CST
DTSTART:20251102T070000
END:STANDARD
BEGIN:DAYLIGHT
TZOFFSETFROM:-0600
TZOFFSETTO:-0500
TZNAME:CDT
DTSTART:20260308T080000
END:DAYLIGHT
BEGIN:STANDARD
TZOFFSETFROM:-0500
TZOFFSETTO:-0600
TZNAME:CST
DTSTART:20261101T070000
END:STANDARD
END:VTIMEZONE
BEGIN:VEVENT
DTSTART;TZID=America/Chicago:20250312T090000
DTEND;TZID=America/Chicago:20250312T093000
DTSTAMP:20260419T081141
CREATED:20250213T201531Z
LAST-MODIFIED:20250213T201531Z
UID:1378765-1741770000-1741771800@events.annexwealth.com
SUMMARY:WEBINAR | Instant Insight: Inflation Trends | 3/12/2025
DESCRIPTION:Penetrating analysis from the Annex Wealth Management Investment Committee on breaking financial and market news.
URL:https://events.annexwealth.com/event/webinar-instant-insight-inflation-trends-3-12-2025-2/
LOCATION:WI
ATTACH;FMTTYPE=image/png:https://events.annexwealth.com/wp-content/uploads/sites/3/2024/07/Instant-Insight_Inflation-Trends.png
END:VEVENT
BEGIN:VEVENT
DTSTART;TZID=America/Chicago:20250312T090000
DTEND;TZID=America/Chicago:20250312T093000
DTSTAMP:20260419T081141
CREATED:20250213T201531Z
LAST-MODIFIED:20250213T201531Z
UID:14223-1741770000-1741771800@events.annexwealth.com
SUMMARY:WEBINAR | Instant Insight: Inflation Trends | 3/12/2025
DESCRIPTION:Penetrating analysis from the Annex Wealth Management Investment Committee on breaking financial and market news.
URL:https://events.annexwealth.com/event/webinar-instant-insight-inflation-trends-3-12-2025/
LOCATION:WI
ATTACH;FMTTYPE=image/png:https://events.annexwealth.com/wp-content/uploads/sites/3/2024/07/Instant-Insight_Inflation-Trends.png
END:VEVENT
BEGIN:VEVENT
DTSTART;TZID=America/Chicago:20250312T160000
DTEND;TZID=America/Chicago:20250312T173000
DTSTAMP:20260419T081141
CREATED:20250214T193248Z
LAST-MODIFIED:20250214T193248Z
UID:14230-1741795200-1741800600@events.annexwealth.com
SUMMARY:APPLETON | Navigating the Markets | 3/12/2025
DESCRIPTION:Annex Wealth Management’s “Navigating the Markets” is an interactive presentation focused on providing information and insight on today’s market and economy. \nJoin Annex Wealth Management’s Research Analyst\, Ken Bellinger\, MBA\, CFA® and Appleton Branch Director\, Jeff Daye\, CFP®\, CRPS®\, RPA as they share with you the perspectives of the Annex Investment Committee.
URL:https://events.annexwealth.com/event/appleton-navigating-the-markets-3-12-2025/
LOCATION:WI
ATTACH;FMTTYPE=image/jpeg:https://events.annexwealth.com/wp-content/uploads/sites/3/2024/12/Image20241219113623.jpg
END:VEVENT
BEGIN:VEVENT
DTSTART;TZID=America/Chicago:20250312T160000
DTEND;TZID=America/Chicago:20250312T173000
DTSTAMP:20260419T081141
CREATED:20250214T193248Z
LAST-MODIFIED:20250214T193248Z
UID:1378767-1741795200-1741800600@events.annexwealth.com
SUMMARY:APPLETON | Navigating the Markets | 3/12/2025
DESCRIPTION:Annex Wealth Management’s “Navigating the Markets” is an interactive presentation focused on providing information and insight on today’s market and economy. \nJoin Annex Wealth Management’s Research Analyst\, Ken Bellinger\, MBA\, CFA® and Appleton Branch Director\, Jeff Daye\, CFP®\, CRPS®\, RPA as they share with you the perspectives of the Annex Investment Committee.
URL:https://events.annexwealth.com/event/appleton-navigating-the-markets-3-12-2025-2/
LOCATION:WI
ATTACH;FMTTYPE=image/jpeg:https://events.annexwealth.com/wp-content/uploads/sites/3/2024/12/Image20241219113623-1.jpg
END:VEVENT
BEGIN:VEVENT
DTSTART;TZID=America/Chicago:20250312T160000
DTEND;TZID=America/Chicago:20250312T173000
DTSTAMP:20260419T081141
CREATED:20250214T204808Z
LAST-MODIFIED:20250214T204808Z
UID:14232-1741795200-1741800600@events.annexwealth.com
SUMMARY:MEQUON | Navigating the Markets | 3/12/2025
DESCRIPTION:Annex Wealth Management’s “Navigating the Markets” is an interactive presentation focused on providing information and insight on today’s market and economy. \nJoin Annex Wealth Management’s Chief Investment Officer\, Derek V.W. Felske\, CFA® and Mequon Branch Director\, Ken Symes as they share with you the perspectives of the Annex Investment Committee.
URL:https://events.annexwealth.com/event/mequon-navigating-the-markets-3-12-2025/
LOCATION:WI
ATTACH;FMTTYPE=image/jpeg:https://events.annexwealth.com/wp-content/uploads/sites/3/2024/12/Image20241219113623.jpg
END:VEVENT
BEGIN:VEVENT
DTSTART;TZID=America/Chicago:20250312T160000
DTEND;TZID=America/Chicago:20250312T173000
DTSTAMP:20260419T081141
CREATED:20250214T204808Z
LAST-MODIFIED:20250214T204808Z
UID:1378768-1741795200-1741800600@events.annexwealth.com
SUMMARY:MEQUON | Navigating the Markets | 3/12/2025
DESCRIPTION:Annex Wealth Management’s “Navigating the Markets” is an interactive presentation focused on providing information and insight on today’s market and economy. \nJoin Annex Wealth Management’s Chief Investment Officer\, Derek V.W. Felske\, CFA® and Mequon Branch Director\, Ken Symes as they share with you the perspectives of the Annex Investment Committee.
URL:https://events.annexwealth.com/event/mequon-navigating-the-markets-3-12-2025-2/
LOCATION:WI
ATTACH;FMTTYPE=image/jpeg:https://events.annexwealth.com/wp-content/uploads/sites/3/2024/12/Image20241219113623-1.jpg
END:VEVENT
END:VCALENDAR