BEGIN:VCALENDAR
VERSION:2.0
PRODID:-//Annex Wealth Management - ECPv6.15.20//NONSGML v1.0//EN
CALSCALE:GREGORIAN
METHOD:PUBLISH
X-ORIGINAL-URL:https://events.annexwealth.com
X-WR-CALDESC:Events for Annex Wealth Management
REFRESH-INTERVAL;VALUE=DURATION:PT1H
X-Robots-Tag:noindex
X-PUBLISHED-TTL:PT1H
BEGIN:VTIMEZONE
TZID:America/Chicago
BEGIN:DAYLIGHT
TZOFFSETFROM:-0600
TZOFFSETTO:-0500
TZNAME:CDT
DTSTART:20240310T080000
END:DAYLIGHT
BEGIN:STANDARD
TZOFFSETFROM:-0500
TZOFFSETTO:-0600
TZNAME:CST
DTSTART:20241103T070000
END:STANDARD
BEGIN:DAYLIGHT
TZOFFSETFROM:-0600
TZOFFSETTO:-0500
TZNAME:CDT
DTSTART:20250309T080000
END:DAYLIGHT
BEGIN:STANDARD
TZOFFSETFROM:-0500
TZOFFSETTO:-0600
TZNAME:CST
DTSTART:20251102T070000
END:STANDARD
BEGIN:DAYLIGHT
TZOFFSETFROM:-0600
TZOFFSETTO:-0500
TZNAME:CDT
DTSTART:20260308T080000
END:DAYLIGHT
BEGIN:STANDARD
TZOFFSETFROM:-0500
TZOFFSETTO:-0600
TZNAME:CST
DTSTART:20261101T070000
END:STANDARD
END:VTIMEZONE
BEGIN:VEVENT
DTSTART;TZID=America/Chicago:20250210T180000
DTEND;TZID=America/Chicago:20250210T193000
DTSTAMP:20260419T094848
CREATED:20250108T204746Z
LAST-MODIFIED:20250108T204746Z
UID:1378752-1739210400-1739215800@events.annexwealth.com
SUMMARY:BROOKFIELD | Financial Planning in A Changing Tax World | 2/10/2025
DESCRIPTION:How do you meet your goals in a changing tax world? SECURE ACT 1\, SECURE ACT 2\, pending changes in the tax code…all highlight the importance of tax planning in your financial plan; knowing what you have when all the pieces are aggregated\, and addressing strategies to meet your goals in an ever-changing retirement and tax planning world.
URL:https://events.annexwealth.com/event/brookfield-financial-planning-in-a-changing-tax-world-2-10-2025-2/
LOCATION:WI
ATTACH;FMTTYPE=image/jpeg:https://events.annexwealth.com/wp-content/uploads/sites/3/2025/01/financial-planning-in-a-changing-tax-world-scaled-1.jpg
END:VEVENT
BEGIN:VEVENT
DTSTART;TZID=America/Chicago:20250210T180000
DTEND;TZID=America/Chicago:20250210T193000
DTSTAMP:20260419T094848
CREATED:20250108T204746Z
LAST-MODIFIED:20250108T204746Z
UID:14165-1739210400-1739215800@events.annexwealth.com
SUMMARY:BROOKFIELD | Financial Planning in A Changing Tax World | 2/10/2025
DESCRIPTION:How do you meet your goals in a changing tax world? SECURE ACT 1\, SECURE ACT 2\, pending changes in the tax code…all highlight the importance of tax planning in your financial plan; knowing what you have when all the pieces are aggregated\, and addressing strategies to meet your goals in an ever-changing retirement and tax planning world.
URL:https://events.annexwealth.com/event/brookfield-financial-planning-in-a-changing-tax-world-2-10-2025/
LOCATION:WI
ATTACH;FMTTYPE=image/jpeg:https://events.annexwealth.com/wp-content/uploads/sites/3/2025/01/financial-planning-in-a-changing-tax-world-scaled-1.jpg
END:VEVENT
END:VCALENDAR