BEGIN:VCALENDAR
VERSION:2.0
PRODID:-//Annex Wealth Management - ECPv6.15.20//NONSGML v1.0//EN
CALSCALE:GREGORIAN
METHOD:PUBLISH
X-ORIGINAL-URL:https://events.annexwealth.com
X-WR-CALDESC:Events for Annex Wealth Management
REFRESH-INTERVAL;VALUE=DURATION:PT1H
X-Robots-Tag:noindex
X-PUBLISHED-TTL:PT1H
BEGIN:VTIMEZONE
TZID:America/Chicago
BEGIN:DAYLIGHT
TZOFFSETFROM:-0600
TZOFFSETTO:-0500
TZNAME:CDT
DTSTART:20240310T080000
END:DAYLIGHT
BEGIN:STANDARD
TZOFFSETFROM:-0500
TZOFFSETTO:-0600
TZNAME:CST
DTSTART:20241103T070000
END:STANDARD
BEGIN:DAYLIGHT
TZOFFSETFROM:-0600
TZOFFSETTO:-0500
TZNAME:CDT
DTSTART:20250309T080000
END:DAYLIGHT
BEGIN:STANDARD
TZOFFSETFROM:-0500
TZOFFSETTO:-0600
TZNAME:CST
DTSTART:20251102T070000
END:STANDARD
BEGIN:DAYLIGHT
TZOFFSETFROM:-0600
TZOFFSETTO:-0500
TZNAME:CDT
DTSTART:20260308T080000
END:DAYLIGHT
BEGIN:STANDARD
TZOFFSETFROM:-0500
TZOFFSETTO:-0600
TZNAME:CST
DTSTART:20261101T070000
END:STANDARD
END:VTIMEZONE
BEGIN:VEVENT
DTSTART;TZID=America/Chicago:20250208T080000
DTEND;TZID=America/Chicago:20250208T120000
DTSTAMP:20260419T094837
CREATED:20250115T195308Z
LAST-MODIFIED:20250115T195308Z
UID:14169-1739001600-1739016000@events.annexwealth.com
SUMMARY:WOMEN & WEALTH | What Women Need to Know About Divorce | 2/8/2025
DESCRIPTION:Annex brings together family law attorneys\, financial planners\, counselors\, and real estate specialists in an interactive\, informative workshop for women only; to empower them to make the best decisions for themselves and their family during this time. \nTopics  Addressed Include: \n\nLegal processes\nChild support and maintenance\nPotential tax consequences\nConsiderations around your house\nAsset splitting considerations\nCare for self and the family\nDealing with a contentious divorce
URL:https://events.annexwealth.com/event/women-wealth-what-women-need-to-know-about-divorce-2-8-2025/
LOCATION:WI
ATTACH;FMTTYPE=image/jpeg:https://events.annexwealth.com/wp-content/uploads/sites/3/2025/01/What-Women-Need-To-Know-About-Divorce.jpg
END:VEVENT
BEGIN:VEVENT
DTSTART;TZID=America/Chicago:20250208T080000
DTEND;TZID=America/Chicago:20250208T120000
DTSTAMP:20260419T094837
CREATED:20250115T195308Z
LAST-MODIFIED:20250115T195308Z
UID:1378753-1739001600-1739016000@events.annexwealth.com
SUMMARY:WOMEN & WEALTH | What Women Need to Know About Divorce | 2/8/2025
DESCRIPTION:Annex brings together family law attorneys\, financial planners\, counselors\, and real estate specialists in an interactive\, informative workshop for women only; to empower them to make the best decisions for themselves and their family during this time. \nTopics  Addressed Include: \n\nLegal processes\nChild support and maintenance\nPotential tax consequences\nConsiderations around your house\nAsset splitting considerations\nCare for self and the family\nDealing with a contentious divorce
URL:https://events.annexwealth.com/event/women-wealth-what-women-need-to-know-about-divorce-2-8-2025-2/
LOCATION:WI
ATTACH;FMTTYPE=image/jpeg:https://events.annexwealth.com/wp-content/uploads/sites/3/2025/01/What-Women-Need-To-Know-About-Divorce.jpg
END:VEVENT
END:VCALENDAR