BEGIN:VCALENDAR
VERSION:2.0
PRODID:-//Annex Wealth Management - ECPv6.15.20//NONSGML v1.0//EN
CALSCALE:GREGORIAN
METHOD:PUBLISH
X-WR-CALNAME:Annex Wealth Management
X-ORIGINAL-URL:https://events.annexwealth.com
X-WR-CALDESC:Events for Annex Wealth Management
REFRESH-INTERVAL;VALUE=DURATION:PT1H
X-Robots-Tag:noindex
X-PUBLISHED-TTL:PT1H
BEGIN:VTIMEZONE
TZID:America/Chicago
BEGIN:DAYLIGHT
TZOFFSETFROM:-0600
TZOFFSETTO:-0500
TZNAME:CDT
DTSTART:20240310T080000
END:DAYLIGHT
BEGIN:STANDARD
TZOFFSETFROM:-0500
TZOFFSETTO:-0600
TZNAME:CST
DTSTART:20241103T070000
END:STANDARD
BEGIN:DAYLIGHT
TZOFFSETFROM:-0600
TZOFFSETTO:-0500
TZNAME:CDT
DTSTART:20250309T080000
END:DAYLIGHT
BEGIN:STANDARD
TZOFFSETFROM:-0500
TZOFFSETTO:-0600
TZNAME:CST
DTSTART:20251102T070000
END:STANDARD
BEGIN:DAYLIGHT
TZOFFSETFROM:-0600
TZOFFSETTO:-0500
TZNAME:CDT
DTSTART:20260308T080000
END:DAYLIGHT
BEGIN:STANDARD
TZOFFSETFROM:-0500
TZOFFSETTO:-0600
TZNAME:CST
DTSTART:20261101T070000
END:STANDARD
END:VTIMEZONE
BEGIN:VEVENT
DTSTART;TZID=America/Chicago:20250129T110000
DTEND;TZID=America/Chicago:20250129T120000
DTSTAMP:20260419T094623
CREATED:20250106T142128Z
LAST-MODIFIED:20250106T142128Z
UID:1378750-1738148400-1738152000@events.annexwealth.com
SUMMARY:WEBINAR | Selling A Business: Where To Start | 1/29/2025
DESCRIPTION:If you’re about to or considering selling your business\, you’re likely experiencing a flood of questions and new priorities. In this interactive webinar\, Annex Wealth Management’s Brandon Lehman and Brian Lamborne will discuss many of the key questions you may ask\, including who you should consult with\, what tasks you should prioritize\, and when you’re ready to make your move. Join Brandon\, Brian and WTMJ’s John Mercure for this informative webinar!
URL:https://events.annexwealth.com/event/webinar-selling-a-business-where-to-start-1-29-2025-2/
LOCATION:WI
ATTACH;FMTTYPE=image/jpeg:https://events.annexwealth.com/wp-content/uploads/sites/3/2025/01/Selling-A-Business-Where-to-Start-Graphic.jpg
END:VEVENT
BEGIN:VEVENT
DTSTART;TZID=America/Chicago:20250129T110000
DTEND;TZID=America/Chicago:20250129T120000
DTSTAMP:20260419T094623
CREATED:20250106T142128Z
LAST-MODIFIED:20250106T142128Z
UID:14155-1738148400-1738152000@events.annexwealth.com
SUMMARY:WEBINAR | Selling A Business: Where To Start | 1/29/2025
DESCRIPTION:If you’re about to or considering selling your business\, you’re likely experiencing a flood of questions and new priorities. In this interactive webinar\, Annex Wealth Management’s Brandon Lehman and Brian Lamborne will discuss many of the key questions you may ask\, including who you should consult with\, what tasks you should prioritize\, and when you’re ready to make your move. Join Brandon\, Brian and WTMJ’s John Mercure for this informative webinar!
URL:https://events.annexwealth.com/event/webinar-selling-a-business-where-to-start-1-29-2025/
LOCATION:WI
ATTACH;FMTTYPE=image/jpeg:https://events.annexwealth.com/wp-content/uploads/sites/3/2025/01/Selling-A-Business-Where-to-Start-Graphic.jpg
END:VEVENT
BEGIN:VEVENT
DTSTART;TZID=America/Chicago:20250129T150000
DTEND;TZID=America/Chicago:20250129T160000
DTSTAMP:20260419T094623
CREATED:20241216T215022Z
LAST-MODIFIED:20241216T215022Z
UID:14131-1738162800-1738166400@events.annexwealth.com
SUMMARY:WEBINAR | Instant Insight: The Fed & the Markets | 1/29/2025
DESCRIPTION:Penetrating analysis from the Annex Wealth Management Investment Committee on breaking financial and market news.
URL:https://events.annexwealth.com/event/webinar-instant-insight-the-fed-the-markets-1-29-2025/
LOCATION:WI
ATTACH;FMTTYPE=image/png:https://events.annexwealth.com/wp-content/uploads/sites/3/2024/07/Instant-Insight-1.png
END:VEVENT
BEGIN:VEVENT
DTSTART;TZID=America/Chicago:20250129T150000
DTEND;TZID=America/Chicago:20250129T160000
DTSTAMP:20260419T094623
CREATED:20241216T215022Z
LAST-MODIFIED:20241216T215022Z
UID:1378744-1738162800-1738166400@events.annexwealth.com
SUMMARY:WEBINAR | Instant Insight: The Fed & the Markets | 1/29/2025
DESCRIPTION:Penetrating analysis from the Annex Wealth Management Investment Committee on breaking financial and market news.
URL:https://events.annexwealth.com/event/webinar-instant-insight-the-fed-the-markets-1-29-2025-2/
LOCATION:WI
ATTACH;FMTTYPE=image/png:https://events.annexwealth.com/wp-content/uploads/sites/3/2024/07/Instant-Insight-1.png
END:VEVENT
END:VCALENDAR