BEGIN:VCALENDAR
VERSION:2.0
PRODID:-//Annex Wealth Management - ECPv6.15.20//NONSGML v1.0//EN
CALSCALE:GREGORIAN
METHOD:PUBLISH
X-ORIGINAL-URL:https://events.annexwealth.com
X-WR-CALDESC:Events for Annex Wealth Management
REFRESH-INTERVAL;VALUE=DURATION:PT1H
X-Robots-Tag:noindex
X-PUBLISHED-TTL:PT1H
BEGIN:VTIMEZONE
TZID:America/Chicago
BEGIN:DAYLIGHT
TZOFFSETFROM:-0600
TZOFFSETTO:-0500
TZNAME:CDT
DTSTART:20240310T080000
END:DAYLIGHT
BEGIN:STANDARD
TZOFFSETFROM:-0500
TZOFFSETTO:-0600
TZNAME:CST
DTSTART:20241103T070000
END:STANDARD
BEGIN:DAYLIGHT
TZOFFSETFROM:-0600
TZOFFSETTO:-0500
TZNAME:CDT
DTSTART:20250309T080000
END:DAYLIGHT
BEGIN:STANDARD
TZOFFSETFROM:-0500
TZOFFSETTO:-0600
TZNAME:CST
DTSTART:20251102T070000
END:STANDARD
BEGIN:DAYLIGHT
TZOFFSETFROM:-0600
TZOFFSETTO:-0500
TZNAME:CDT
DTSTART:20260308T080000
END:DAYLIGHT
BEGIN:STANDARD
TZOFFSETFROM:-0500
TZOFFSETTO:-0600
TZNAME:CST
DTSTART:20261101T070000
END:STANDARD
END:VTIMEZONE
BEGIN:VEVENT
DTSTART;TZID=America/Chicago:20250128T093000
DTEND;TZID=America/Chicago:20250128T103000
DTSTAMP:20260419T094759
CREATED:20250127T223313Z
LAST-MODIFIED:20250127T223313Z
UID:14188-1738056600-1738060200@events.annexwealth.com
SUMMARY:WEBINAR | Instant Insight: Did DeepSeek Deep-Six Tech Stocks? | 1/28/2025
DESCRIPTION:Nvidia suffered the biggest one-day loss in US history today (1/27/25) after news that China’s DeepSeek AI may threaten US dominance. The tech sector followed Nvidia down. What does this mean for the broader markets and your portfolio? \nJoin us tomorrow at 9:30 AM for “Instant Insight.” Annex Wealth Management’s Dr. Brian Jacobsen will share our investment team’s thoughts on this tech news\, including some indices we’ll be watching as news unfolds. \nMarkets move for all sorts of reasons – both policy changes and events. At Annex\, we want you to stay informed so you can improve your journey. “Instant Insight” can help.
URL:https://events.annexwealth.com/event/webinar-instant-insight-did-deepseek-deep-six-tech-stocks-1-28-2025/
LOCATION:WI
ATTACH;FMTTYPE=image/png:https://events.annexwealth.com/wp-content/uploads/sites/3/2025/01/Instant-Insight-DeepSeek.png
END:VEVENT
BEGIN:VEVENT
DTSTART;TZID=America/Chicago:20250128T093000
DTEND;TZID=America/Chicago:20250128T103000
DTSTAMP:20260419T094759
CREATED:20250127T223313Z
LAST-MODIFIED:20250127T223313Z
UID:1378758-1738056600-1738060200@events.annexwealth.com
SUMMARY:WEBINAR | Instant Insight: Did DeepSeek Deep-Six Tech Stocks? | 1/28/2025
DESCRIPTION:Nvidia suffered the biggest one-day loss in US history today (1/27/25) after news that China’s DeepSeek AI may threaten US dominance. The tech sector followed Nvidia down. What does this mean for the broader markets and your portfolio? \nJoin us tomorrow at 9:30 AM for “Instant Insight.” Annex Wealth Management’s Dr. Brian Jacobsen will share our investment team’s thoughts on this tech news\, including some indices we’ll be watching as news unfolds. \nMarkets move for all sorts of reasons – both policy changes and events. At Annex\, we want you to stay informed so you can improve your journey. “Instant Insight” can help.
URL:https://events.annexwealth.com/event/webinar-instant-insight-did-deepseek-deep-six-tech-stocks-1-28-2025-2/
LOCATION:WI
ATTACH;FMTTYPE=image/png:https://events.annexwealth.com/wp-content/uploads/sites/3/2025/01/Instant-Insight-DeepSeek.png
END:VEVENT
BEGIN:VEVENT
DTSTART;TZID=America/Chicago:20250128T180000
DTEND;TZID=America/Chicago:20250128T193000
DTSTAMP:20260419T094759
CREATED:20250102T125330Z
LAST-MODIFIED:20250102T125330Z
UID:14151-1738087200-1738092600@events.annexwealth.com
SUMMARY:BROOKFIELD | Single in Retirement: Financial Planning Strategies | 1/28/2025
DESCRIPTION:About 22% of Americans age 65 and older age as single people with no spouse or children to care for them when they need assistance. There are unique financial challenges for those who age alone\, from estate planning considerations to managing finances\, from choosing where to live to understanding it takes more than money to enjoy a successful retirement. This workshop helps identify resources and best practices around managing your healthcare\, housing\, finances and creating a support network.
URL:https://events.annexwealth.com/event/hq-single-in-retirement-financial-planning-strategies-1-28-2025/
LOCATION:WI
ATTACH;FMTTYPE=image/jpeg:https://events.annexwealth.com/wp-content/uploads/sites/3/2025/01/Single-In-Retirement-2025.jpg
END:VEVENT
BEGIN:VEVENT
DTSTART;TZID=America/Chicago:20250128T180000
DTEND;TZID=America/Chicago:20250128T193000
DTSTAMP:20260419T094759
CREATED:20250102T125330Z
LAST-MODIFIED:20250102T125330Z
UID:1378749-1738087200-1738092600@events.annexwealth.com
SUMMARY:BROOKFIELD | Single in Retirement: Financial Planning Strategies | 1/28/2025
DESCRIPTION:About 22% of Americans age 65 and older age as single people with no spouse or children to care for them when they need assistance. There are unique financial challenges for those who age alone\, from estate planning considerations to managing finances\, from choosing where to live to understanding it takes more than money to enjoy a successful retirement. This workshop helps identify resources and best practices around managing your healthcare\, housing\, finances and creating a support network.
URL:https://events.annexwealth.com/event/hq-single-in-retirement-financial-planning-strategies-1-28-2025-2/
LOCATION:WI
ATTACH;FMTTYPE=image/jpeg:https://events.annexwealth.com/wp-content/uploads/sites/3/2025/01/Single-In-Retirement-2025.jpg
END:VEVENT
END:VCALENDAR