BEGIN:VCALENDAR
VERSION:2.0
PRODID:-//Annex Wealth Management - ECPv6.15.20//NONSGML v1.0//EN
CALSCALE:GREGORIAN
METHOD:PUBLISH
X-ORIGINAL-URL:https://events.annexwealth.com
X-WR-CALDESC:Events for Annex Wealth Management
REFRESH-INTERVAL;VALUE=DURATION:PT1H
X-Robots-Tag:noindex
X-PUBLISHED-TTL:PT1H
BEGIN:VTIMEZONE
TZID:America/Chicago
BEGIN:DAYLIGHT
TZOFFSETFROM:-0600
TZOFFSETTO:-0500
TZNAME:CDT
DTSTART:20240310T080000
END:DAYLIGHT
BEGIN:STANDARD
TZOFFSETFROM:-0500
TZOFFSETTO:-0600
TZNAME:CST
DTSTART:20241103T070000
END:STANDARD
BEGIN:DAYLIGHT
TZOFFSETFROM:-0600
TZOFFSETTO:-0500
TZNAME:CDT
DTSTART:20250309T080000
END:DAYLIGHT
BEGIN:STANDARD
TZOFFSETFROM:-0500
TZOFFSETTO:-0600
TZNAME:CST
DTSTART:20251102T070000
END:STANDARD
BEGIN:DAYLIGHT
TZOFFSETFROM:-0600
TZOFFSETTO:-0500
TZNAME:CDT
DTSTART:20260308T080000
END:DAYLIGHT
BEGIN:STANDARD
TZOFFSETFROM:-0500
TZOFFSETTO:-0600
TZNAME:CST
DTSTART:20261101T070000
END:STANDARD
END:VTIMEZONE
BEGIN:VEVENT
DTSTART;TZID=America/Chicago:20250110T090000
DTEND;TZID=America/Chicago:20250110T100000
DTSTAMP:20260419T111716
CREATED:20241216T192107Z
LAST-MODIFIED:20241216T192107Z
UID:14127-1736499600-1736503200@events.annexwealth.com
SUMMARY:WEBINAR | Instant Insight: Jobs and the Economic Outlook | 1/10/2025
DESCRIPTION:Penetrating analysis from the Annex Wealth Management Investment Committee on breaking financial and market news.
URL:https://events.annexwealth.com/event/webinar-instant-insight-jobs-and-the-economic-outlook-1-10-2024/
LOCATION:WI
ATTACH;FMTTYPE=image/png:https://events.annexwealth.com/wp-content/uploads/sites/3/2024/09/Instant-Insight-2.png
END:VEVENT
BEGIN:VEVENT
DTSTART;TZID=America/Chicago:20250110T090000
DTEND;TZID=America/Chicago:20250110T100000
DTSTAMP:20260419T111716
CREATED:20241216T192107Z
LAST-MODIFIED:20241216T192107Z
UID:1378742-1736499600-1736503200@events.annexwealth.com
SUMMARY:WEBINAR | Instant Insight: Jobs and the Economic Outlook | 1/10/2025
DESCRIPTION:Penetrating analysis from the Annex Wealth Management Investment Committee on breaking financial and market news.
URL:https://events.annexwealth.com/event/webinar-instant-insight-jobs-and-the-economic-outlook-1-10-2024-2/
LOCATION:WI
ATTACH;FMTTYPE=image/png:https://events.annexwealth.com/wp-content/uploads/sites/3/2024/09/Instant-Insight-2.png
END:VEVENT
END:VCALENDAR