BEGIN:VCALENDAR
VERSION:2.0
PRODID:-//Annex Wealth Management - ECPv6.15.20//NONSGML v1.0//EN
CALSCALE:GREGORIAN
METHOD:PUBLISH
X-ORIGINAL-URL:https://events.annexwealth.com
X-WR-CALDESC:Events for Annex Wealth Management
REFRESH-INTERVAL;VALUE=DURATION:PT1H
X-Robots-Tag:noindex
X-PUBLISHED-TTL:PT1H
BEGIN:VTIMEZONE
TZID:America/Chicago
BEGIN:DAYLIGHT
TZOFFSETFROM:-0600
TZOFFSETTO:-0500
TZNAME:CDT
DTSTART:20240310T080000
END:DAYLIGHT
BEGIN:STANDARD
TZOFFSETFROM:-0500
TZOFFSETTO:-0600
TZNAME:CST
DTSTART:20241103T070000
END:STANDARD
BEGIN:DAYLIGHT
TZOFFSETFROM:-0600
TZOFFSETTO:-0500
TZNAME:CDT
DTSTART:20250309T080000
END:DAYLIGHT
BEGIN:STANDARD
TZOFFSETFROM:-0500
TZOFFSETTO:-0600
TZNAME:CST
DTSTART:20251102T070000
END:STANDARD
BEGIN:DAYLIGHT
TZOFFSETFROM:-0600
TZOFFSETTO:-0500
TZNAME:CDT
DTSTART:20260308T080000
END:DAYLIGHT
BEGIN:STANDARD
TZOFFSETFROM:-0500
TZOFFSETTO:-0600
TZNAME:CST
DTSTART:20261101T070000
END:STANDARD
END:VTIMEZONE
BEGIN:VEVENT
DTSTART;TZID=America/Chicago:20250109T160000
DTEND;TZID=America/Chicago:20250109T170000
DTSTAMP:20260419T111716
CREATED:20241219T174654Z
LAST-MODIFIED:20241219T174654Z
UID:1378747-1736438400-1736442000@events.annexwealth.com
SUMMARY:WEBINAR | Navigating the Markets | 1/9/2025
DESCRIPTION:Annex Wealth Management’s “Navigating the Markets” is an interactive presentation focused on providing information and insight on today’s market and economy. Join Annex Wealth Management’s Brian Jacobsen as he shares with you the perspectives of the Annex Investment Committee.
URL:https://events.annexwealth.com/event/webinar-navigating-the-markets-1-9-2024-2/
LOCATION:WI
ATTACH;FMTTYPE=image/jpeg:https://events.annexwealth.com/wp-content/uploads/sites/3/2024/12/Image20241219113623-1.jpg
END:VEVENT
BEGIN:VEVENT
DTSTART;TZID=America/Chicago:20250109T160000
DTEND;TZID=America/Chicago:20250109T170000
DTSTAMP:20260419T111716
CREATED:20241219T174654Z
LAST-MODIFIED:20241219T174654Z
UID:14141-1736438400-1736442000@events.annexwealth.com
SUMMARY:WEBINAR | Navigating the Markets | 1/9/2025
DESCRIPTION:Annex Wealth Management’s “Navigating the Markets” is an interactive presentation focused on providing information and insight on today’s market and economy. Join Annex Wealth Management’s Brian Jacobsen as he shares with you the perspectives of the Annex Investment Committee.
URL:https://events.annexwealth.com/event/webinar-navigating-the-markets-1-9-2024/
LOCATION:WI
ATTACH;FMTTYPE=image/jpeg:https://events.annexwealth.com/wp-content/uploads/sites/3/2024/12/Image20241219113623.jpg
END:VEVENT
BEGIN:VEVENT
DTSTART;TZID=America/Chicago:20250109T173000
DTEND;TZID=America/Chicago:20250109T183000
DTSTAMP:20260419T111716
CREATED:20241219T175004Z
LAST-MODIFIED:20241219T175004Z
UID:14144-1736443800-1736447400@events.annexwealth.com
SUMMARY:LAKE COUNTRY | Navigating the Markets | 1/9/2025
DESCRIPTION:Annex Wealth Management’s “Navigating the Markets” is an interactive presentation focused on providing information and insight on today’s market and economy. Join Annex Wealth Management’s Director of Research\, Matt Morzy\, CFP® and Lake County Branch Director\, Nik Kibardin\, MBA\, CFP® as they share with you the perspectives of the Annex Investment Committee.
URL:https://events.annexwealth.com/event/lake-country-navigating-the-markets-1-9-2025/
LOCATION:WI
ATTACH;FMTTYPE=image/jpeg:https://events.annexwealth.com/wp-content/uploads/sites/3/2024/12/Image20241219113623.jpg
END:VEVENT
BEGIN:VEVENT
DTSTART;TZID=America/Chicago:20250109T173000
DTEND;TZID=America/Chicago:20250109T183000
DTSTAMP:20260419T111716
CREATED:20241219T175004Z
LAST-MODIFIED:20241219T175004Z
UID:1378748-1736443800-1736447400@events.annexwealth.com
SUMMARY:LAKE COUNTRY | Navigating the Markets | 1/9/2025
DESCRIPTION:Annex Wealth Management’s “Navigating the Markets” is an interactive presentation focused on providing information and insight on today’s market and economy. Join Annex Wealth Management’s Director of Research\, Matt Morzy\, CFP® and Lake County Branch Director\, Nik Kibardin\, MBA\, CFP® as they share with you the perspectives of the Annex Investment Committee.
URL:https://events.annexwealth.com/event/lake-country-navigating-the-markets-1-9-2025-2/
LOCATION:WI
ATTACH;FMTTYPE=image/jpeg:https://events.annexwealth.com/wp-content/uploads/sites/3/2024/12/Image20241219113623-1.jpg
END:VEVENT
BEGIN:VEVENT
DTSTART;TZID=America/Chicago:20250109T180000
DTEND;TZID=America/Chicago:20250109T193000
DTSTAMP:20260419T111716
CREATED:20241218T210438Z
LAST-MODIFIED:20241218T210438Z
UID:1378746-1736445600-1736451000@events.annexwealth.com
SUMMARY:BROOKFIELD | Moving in Retirement | 1/9/2025
DESCRIPTION:Join us for a lively\, interactive workshop where we will be discussing moving in retirement. Many are considering moving before or in retirement. As you make your decision\, we’ll give you several key points to consider before you make your move; factors to consider such as cost of living adjustments and hidden taxes\, and why you should know the difference between residence and domicile.
URL:https://events.annexwealth.com/event/hq-moving-in-retirement-1-9-2025-2/
LOCATION:WI
ATTACH;FMTTYPE=image/jpeg:https://events.annexwealth.com/wp-content/uploads/sites/3/2024/12/Image20241218145503-scaled-1.jpg
END:VEVENT
BEGIN:VEVENT
DTSTART;TZID=America/Chicago:20250109T180000
DTEND;TZID=America/Chicago:20250109T193000
DTSTAMP:20260419T111716
CREATED:20241218T210438Z
LAST-MODIFIED:20241218T210438Z
UID:14138-1736445600-1736451000@events.annexwealth.com
SUMMARY:BROOKFIELD | Moving in Retirement | 1/9/2025
DESCRIPTION:Join us for a lively\, interactive workshop where we will be discussing moving in retirement. Many are considering moving before or in retirement. As you make your decision\, we’ll give you several key points to consider before you make your move; factors to consider such as cost of living adjustments and hidden taxes\, and why you should know the difference between residence and domicile.
URL:https://events.annexwealth.com/event/hq-moving-in-retirement-1-9-2025/
LOCATION:WI
ATTACH;FMTTYPE=image/jpeg:https://events.annexwealth.com/wp-content/uploads/sites/3/2024/12/Image20241218145503-scaled-1.jpg
END:VEVENT
END:VCALENDAR