BEGIN:VCALENDAR
VERSION:2.0
PRODID:-//Annex Wealth Management - ECPv6.15.20//NONSGML v1.0//EN
CALSCALE:GREGORIAN
METHOD:PUBLISH
X-ORIGINAL-URL:https://events.annexwealth.com
X-WR-CALDESC:Events for Annex Wealth Management
REFRESH-INTERVAL;VALUE=DURATION:PT1H
X-Robots-Tag:noindex
X-PUBLISHED-TTL:PT1H
BEGIN:VTIMEZONE
TZID:America/Chicago
BEGIN:DAYLIGHT
TZOFFSETFROM:-0600
TZOFFSETTO:-0500
TZNAME:CDT
DTSTART:20230312T080000
END:DAYLIGHT
BEGIN:STANDARD
TZOFFSETFROM:-0500
TZOFFSETTO:-0600
TZNAME:CST
DTSTART:20231105T070000
END:STANDARD
BEGIN:DAYLIGHT
TZOFFSETFROM:-0600
TZOFFSETTO:-0500
TZNAME:CDT
DTSTART:20240310T080000
END:DAYLIGHT
BEGIN:STANDARD
TZOFFSETFROM:-0500
TZOFFSETTO:-0600
TZNAME:CST
DTSTART:20241103T070000
END:STANDARD
BEGIN:DAYLIGHT
TZOFFSETFROM:-0600
TZOFFSETTO:-0500
TZNAME:CDT
DTSTART:20250309T080000
END:DAYLIGHT
BEGIN:STANDARD
TZOFFSETFROM:-0500
TZOFFSETTO:-0600
TZNAME:CST
DTSTART:20251102T070000
END:STANDARD
END:VTIMEZONE
BEGIN:VEVENT
DTSTART;TZID=America/Chicago:20241024T170000
DTEND;TZID=America/Chicago:20241024T190000
DTSTAMP:20260419T155945
CREATED:20240729T160151Z
LAST-MODIFIED:20240729T160151Z
UID:13790-1729789200-1729796400@events.annexwealth.com
SUMMARY:PFISTER | Passion Assets | 10/24/24
DESCRIPTION:Come and join us at the Pfister Hotel for this fantastic event.  Speakers from Annex Wealth Management and Mahler Sotheby’s International Realtor will present on this informational topic. \nDo you have a transition plan for your antiques and collectibles? Grandma’s favorite pie plate\, your good China\, Christmas ornaments\, the wine or sports card collection…even your pets: what will happen to beloved items ultimately? This workshop focuses on passion assets – objects that don’t pass to our loved ones through beneficiary designation – and gives ideas on divesting ourselves of our beloved objects in a manner that we can handle. Join speakers from Annex Wealth Management\, Mahler Sotheby’s International Realty\, and Hindman Auctions as they present on this informational topic.
URL:https://events.annexwealth.com/event/women-wealth-passion-assets-10-24-24/
LOCATION:WI
ATTACH;FMTTYPE=image/jpeg:https://events.annexwealth.com/wp-content/uploads/sites/3/2024/07/passion-assets.jpg
END:VEVENT
BEGIN:VEVENT
DTSTART;TZID=America/Chicago:20241024T170000
DTEND;TZID=America/Chicago:20241024T190000
DTSTAMP:20260419T155945
CREATED:20240729T160151Z
LAST-MODIFIED:20240729T160151Z
UID:1378700-1729789200-1729796400@events.annexwealth.com
SUMMARY:PFISTER | Passion Assets | 10/24/24
DESCRIPTION:Come and join us at the Pfister Hotel for this fantastic event.  Speakers from Annex Wealth Management and Mahler Sotheby’s International Realtor will present on this informational topic. \nDo you have a transition plan for your antiques and collectibles? Grandma’s favorite pie plate\, your good China\, Christmas ornaments\, the wine or sports card collection…even your pets: what will happen to beloved items ultimately? This workshop focuses on passion assets – objects that don’t pass to our loved ones through beneficiary designation – and gives ideas on divesting ourselves of our beloved objects in a manner that we can handle. Join speakers from Annex Wealth Management\, Mahler Sotheby’s International Realty\, and Hindman Auctions as they present on this informational topic.
URL:https://events.annexwealth.com/event/women-wealth-passion-assets-10-24-24-2/
LOCATION:WI
ATTACH;FMTTYPE=image/jpeg:https://events.annexwealth.com/wp-content/uploads/sites/3/2024/07/passion-assets.jpg
END:VEVENT
END:VCALENDAR