BEGIN:VCALENDAR
VERSION:2.0
PRODID:-//Annex Wealth Management - ECPv6.15.20//NONSGML v1.0//EN
CALSCALE:GREGORIAN
METHOD:PUBLISH
X-ORIGINAL-URL:https://events.annexwealth.com
X-WR-CALDESC:Events for Annex Wealth Management
REFRESH-INTERVAL;VALUE=DURATION:PT1H
X-Robots-Tag:noindex
X-PUBLISHED-TTL:PT1H
BEGIN:VTIMEZONE
TZID:America/Chicago
BEGIN:DAYLIGHT
TZOFFSETFROM:-0600
TZOFFSETTO:-0500
TZNAME:CDT
DTSTART:20230312T080000
END:DAYLIGHT
BEGIN:STANDARD
TZOFFSETFROM:-0500
TZOFFSETTO:-0600
TZNAME:CST
DTSTART:20231105T070000
END:STANDARD
BEGIN:DAYLIGHT
TZOFFSETFROM:-0600
TZOFFSETTO:-0500
TZNAME:CDT
DTSTART:20240310T080000
END:DAYLIGHT
BEGIN:STANDARD
TZOFFSETFROM:-0500
TZOFFSETTO:-0600
TZNAME:CST
DTSTART:20241103T070000
END:STANDARD
BEGIN:DAYLIGHT
TZOFFSETFROM:-0600
TZOFFSETTO:-0500
TZNAME:CDT
DTSTART:20250309T080000
END:DAYLIGHT
BEGIN:STANDARD
TZOFFSETFROM:-0500
TZOFFSETTO:-0600
TZNAME:CST
DTSTART:20251102T070000
END:STANDARD
END:VTIMEZONE
BEGIN:VEVENT
DTSTART;TZID=America/Chicago:20240926T110000
DTEND;TZID=America/Chicago:20240926T120000
DTSTAMP:20260419T173029
CREATED:20240904T143743Z
LAST-MODIFIED:20240904T143743Z
UID:1378715-1727348400-1727352000@events.annexwealth.com
SUMMARY:WEBINAR | Dollars & Ballots: Navigating The Economic Landscape Of The Presidential Race | 9/26/24
DESCRIPTION:Join us for an in-depth exploration of the presidential candidates’ economic policies and their potential impact on your financial future. Our expert panel breaks down complex campaign promises into practical insights for investors. Tune in to understand how the upcoming election could shape markets\, taxes\, and your personal financial strategy.
URL:https://events.annexwealth.com/event/webinar-dollars-ballots-navigating-the-economic-landscape-of-the-presidential-race-9-26-24-2/
LOCATION:WI
ATTACH;FMTTYPE=image/jpeg:https://events.annexwealth.com/wp-content/uploads/sites/3/2024/09/dollars-and-ballots.jpg
END:VEVENT
BEGIN:VEVENT
DTSTART;TZID=America/Chicago:20240926T110000
DTEND;TZID=America/Chicago:20240926T120000
DTSTAMP:20260419T173029
CREATED:20240904T143743Z
LAST-MODIFIED:20240904T143743Z
UID:13930-1727348400-1727352000@events.annexwealth.com
SUMMARY:WEBINAR | Dollars & Ballots: Navigating The Economic Landscape Of The Presidential Race | 9/26/24
DESCRIPTION:Join us for an in-depth exploration of the presidential candidates’ economic policies and their potential impact on your financial future. Our expert panel breaks down complex campaign promises into practical insights for investors. Tune in to understand how the upcoming election could shape markets\, taxes\, and your personal financial strategy.
URL:https://events.annexwealth.com/event/webinar-dollars-ballots-navigating-the-economic-landscape-of-the-presidential-race-9-26-24/
LOCATION:WI
ATTACH;FMTTYPE=image/jpeg:https://events.annexwealth.com/wp-content/uploads/sites/3/2024/09/dollars-and-ballots.jpg
END:VEVENT
END:VCALENDAR