BEGIN:VCALENDAR
VERSION:2.0
PRODID:-//Annex Wealth Management - ECPv6.15.20//NONSGML v1.0//EN
CALSCALE:GREGORIAN
METHOD:PUBLISH
X-ORIGINAL-URL:https://events.annexwealth.com
X-WR-CALDESC:Events for Annex Wealth Management
REFRESH-INTERVAL;VALUE=DURATION:PT1H
X-Robots-Tag:noindex
X-PUBLISHED-TTL:PT1H
BEGIN:VTIMEZONE
TZID:America/Chicago
BEGIN:DAYLIGHT
TZOFFSETFROM:-0600
TZOFFSETTO:-0500
TZNAME:CDT
DTSTART:20230312T080000
END:DAYLIGHT
BEGIN:STANDARD
TZOFFSETFROM:-0500
TZOFFSETTO:-0600
TZNAME:CST
DTSTART:20231105T070000
END:STANDARD
BEGIN:DAYLIGHT
TZOFFSETFROM:-0600
TZOFFSETTO:-0500
TZNAME:CDT
DTSTART:20240310T080000
END:DAYLIGHT
BEGIN:STANDARD
TZOFFSETFROM:-0500
TZOFFSETTO:-0600
TZNAME:CST
DTSTART:20241103T070000
END:STANDARD
BEGIN:DAYLIGHT
TZOFFSETFROM:-0600
TZOFFSETTO:-0500
TZNAME:CDT
DTSTART:20250309T080000
END:DAYLIGHT
BEGIN:STANDARD
TZOFFSETFROM:-0500
TZOFFSETTO:-0600
TZNAME:CST
DTSTART:20251102T070000
END:STANDARD
END:VTIMEZONE
BEGIN:VEVENT
DTSTART;TZID=America/Chicago:20240925T170000
DTEND;TZID=America/Chicago:20240925T190000
DTSTAMP:20260419T172919
CREATED:20240808T210322Z
LAST-MODIFIED:20240808T210322Z
UID:13813-1727283600-1727290800@events.annexwealth.com
SUMMARY:BROOKFIELD | Conversation Café: Voting Rights Or Voting Wrongs | 9/25/24
DESCRIPTION:Women voted in the revolutionary America. Yet\, it took until the 19th Amendment to make it illegal to deny the right to vote based on a citizen’s sex. And then it took the Voting Rights Act of 1965 to remove policies and practices used to limit voting by African Americans and other targeted groups. A discussion tracing enfranchisement from revolutionary days to the present\, join Annex Wealth Management’s Deanne Phillips and Attorney Kathy L. Nusslock while they moderate an engaging discussion on Voting Rights or Voting Wrongs: Enfranchisement In The United States.
URL:https://events.annexwealth.com/event/brookfield-conversation-cafe-voting-rights-or-voting-wrongs-9-25-24/
LOCATION:WI
ATTACH;FMTTYPE=image/jpeg:https://events.annexwealth.com/wp-content/uploads/sites/3/2024/08/WW_voting-rights-wrongs.jpg
END:VEVENT
BEGIN:VEVENT
DTSTART;TZID=America/Chicago:20240925T170000
DTEND;TZID=America/Chicago:20240925T190000
DTSTAMP:20260419T172919
CREATED:20240808T210322Z
LAST-MODIFIED:20240808T210322Z
UID:1378705-1727283600-1727290800@events.annexwealth.com
SUMMARY:BROOKFIELD | Conversation Café: Voting Rights Or Voting Wrongs | 9/25/24
DESCRIPTION:Women voted in the revolutionary America. Yet\, it took until the 19th Amendment to make it illegal to deny the right to vote based on a citizen’s sex. And then it took the Voting Rights Act of 1965 to remove policies and practices used to limit voting by African Americans and other targeted groups. A discussion tracing enfranchisement from revolutionary days to the present\, join Annex Wealth Management’s Deanne Phillips and Attorney Kathy L. Nusslock while they moderate an engaging discussion on Voting Rights or Voting Wrongs: Enfranchisement In The United States.
URL:https://events.annexwealth.com/event/brookfield-conversation-cafe-voting-rights-or-voting-wrongs-9-25-24-2/
LOCATION:WI
ATTACH;FMTTYPE=image/jpeg:https://events.annexwealth.com/wp-content/uploads/sites/3/2024/08/WW_voting-rights-wrongs.jpg
END:VEVENT
END:VCALENDAR