BEGIN:VCALENDAR
VERSION:2.0
PRODID:-//Annex Wealth Management - ECPv6.15.20//NONSGML v1.0//EN
CALSCALE:GREGORIAN
METHOD:PUBLISH
X-WR-CALNAME:Annex Wealth Management
X-ORIGINAL-URL:https://events.annexwealth.com
X-WR-CALDESC:Events for Annex Wealth Management
REFRESH-INTERVAL;VALUE=DURATION:PT1H
X-Robots-Tag:noindex
X-PUBLISHED-TTL:PT1H
BEGIN:VTIMEZONE
TZID:America/Chicago
BEGIN:DAYLIGHT
TZOFFSETFROM:-0600
TZOFFSETTO:-0500
TZNAME:CDT
DTSTART:20230312T080000
END:DAYLIGHT
BEGIN:STANDARD
TZOFFSETFROM:-0500
TZOFFSETTO:-0600
TZNAME:CST
DTSTART:20231105T070000
END:STANDARD
BEGIN:DAYLIGHT
TZOFFSETFROM:-0600
TZOFFSETTO:-0500
TZNAME:CDT
DTSTART:20240310T080000
END:DAYLIGHT
BEGIN:STANDARD
TZOFFSETFROM:-0500
TZOFFSETTO:-0600
TZNAME:CST
DTSTART:20241103T070000
END:STANDARD
BEGIN:DAYLIGHT
TZOFFSETFROM:-0600
TZOFFSETTO:-0500
TZNAME:CDT
DTSTART:20250309T080000
END:DAYLIGHT
BEGIN:STANDARD
TZOFFSETFROM:-0500
TZOFFSETTO:-0600
TZNAME:CST
DTSTART:20251102T070000
END:STANDARD
END:VTIMEZONE
BEGIN:VEVENT
DTSTART;TZID=America/Chicago:20240815T100000
DTEND;TZID=America/Chicago:20240815T110000
DTSTAMP:20260419T185610
CREATED:20240719T204505Z
LAST-MODIFIED:20240719T204505Z
UID:13774-1723716000-1723719600@events.annexwealth.com
SUMMARY:WEBINAR | Investment Intel: An In-Depth Briefing On The Markets | 8/15/24
DESCRIPTION:Insights on how to manage the cash and fixed income portion of your portfolio. \nJoin us every month for Investment Intel\, an interactive presentation brief from Annex Wealth Management. Each Investment Intel briefing will take a look at where we are and where we believe we’re headed\, including insights and trends that will help you make sense of the financial markets and the economy.
URL:https://events.annexwealth.com/event/webinar-investment-intel-an-in-depth-briefing-on-the-markets-8-15-24/
LOCATION:WI
ATTACH;FMTTYPE=image/jpeg:https://events.annexwealth.com/wp-content/uploads/sites/3/2024/04/Image20240401130354.jpg
END:VEVENT
BEGIN:VEVENT
DTSTART;TZID=America/Chicago:20240815T100000
DTEND;TZID=America/Chicago:20240815T110000
DTSTAMP:20260419T185610
CREATED:20240719T204505Z
LAST-MODIFIED:20240719T204505Z
UID:1378695-1723716000-1723719600@events.annexwealth.com
SUMMARY:WEBINAR | Investment Intel: An In-Depth Briefing On The Markets | 8/15/24
DESCRIPTION:Insights on how to manage the cash and fixed income portion of your portfolio. \nJoin us every month for Investment Intel\, an interactive presentation brief from Annex Wealth Management. Each Investment Intel briefing will take a look at where we are and where we believe we’re headed\, including insights and trends that will help you make sense of the financial markets and the economy.
URL:https://events.annexwealth.com/event/webinar-investment-intel-an-in-depth-briefing-on-the-markets-8-15-24-2/
LOCATION:WI
ATTACH;FMTTYPE=image/jpeg:https://events.annexwealth.com/wp-content/uploads/sites/3/2024/04/Image20240401130354.jpg
END:VEVENT
BEGIN:VEVENT
DTSTART;TZID=America/Chicago:20240815T110000
DTEND;TZID=America/Chicago:20240815T120000
DTSTAMP:20260419T185610
CREATED:20240729T202501Z
LAST-MODIFIED:20240729T202501Z
UID:1378701-1723719600-1723723200@events.annexwealth.com
SUMMARY:WEBINAR | Tax Cuts Scheduled To End In 2025: What It Means To Investors | 8/15/24
DESCRIPTION:In the first of this two-part series\, WTMJ’s John Mercure and Annex Wealth Management’s Dave Spano and Chief Economist\, Brian Jacobsen\, PhD\, JD\, CFA®\, CFP®\, CAIA\, CBE take a look at how the sunset of the Tax Cut and Jobs Act might affect the markets & economy. We’ll review similar moments in history\, and how investors have reacted to increases in the past. And\, we’ll discuss if the Federal Government has the ability to reverse course. Join us for this insightful\, interactive workshop.
URL:https://events.annexwealth.com/event/webinar-tax-cuts-scheduled-to-end-in-2025-what-it-means-to-investors-8-15-24-2/
LOCATION:WI
ATTACH;FMTTYPE=image/png:https://events.annexwealth.com/wp-content/uploads/sites/3/2024/07/WTMJ-Webinar_Tax-Cuts-Scheduled-To-End_Investors-small.png
END:VEVENT
BEGIN:VEVENT
DTSTART;TZID=America/Chicago:20240815T110000
DTEND;TZID=America/Chicago:20240815T120000
DTSTAMP:20260419T185610
CREATED:20240729T202501Z
LAST-MODIFIED:20240729T202501Z
UID:13795-1723719600-1723723200@events.annexwealth.com
SUMMARY:WEBINAR | Tax Cuts Scheduled To End In 2025: What It Means To Investors | 8/15/24
DESCRIPTION:In the first of this two-part series\, WTMJ’s John Mercure and Annex Wealth Management’s Dave Spano and Chief Economist\, Brian Jacobsen\, PhD\, JD\, CFA®\, CFP®\, CAIA\, CBE take a look at how the sunset of the Tax Cut and Jobs Act might affect the markets & economy. We’ll review similar moments in history\, and how investors have reacted to increases in the past. And\, we’ll discuss if the Federal Government has the ability to reverse course. Join us for this insightful\, interactive workshop.
URL:https://events.annexwealth.com/event/webinar-tax-cuts-scheduled-to-end-in-2025-what-it-means-to-investors-8-15-24/
LOCATION:WI
ATTACH;FMTTYPE=image/png:https://events.annexwealth.com/wp-content/uploads/sites/3/2024/07/WTMJ-Webinar_Tax-Cuts-Scheduled-To-End_Investors-small.png
END:VEVENT
BEGIN:VEVENT
DTSTART;TZID=America/Chicago:20240815T180000
DTEND;TZID=America/Chicago:20240815T200000
DTSTAMP:20260419T185610
CREATED:20240709T202833Z
LAST-MODIFIED:20240709T202833Z
UID:13741-1723744800-1723752000@events.annexwealth.com
SUMMARY:WOMEN & WEALTH | The Sandwich Generation | 8/15/24
DESCRIPTION:Join us every Third Thursday for an interactive presentation where we will be discussing key financial topics. \nAlmost half of American adults between the ages of 40-59 are “sandwiched” between aging parents and taking care of  their own children (even adult ones) in some capacity.  Join us as we discuss challenges of caretaking  for multiple generations and share our own coping strategies.
URL:https://events.annexwealth.com/event/women-wealth-the-sandwich-generation-8-15-24/
LOCATION:WI
CATEGORIES:Women & Wealth
ATTACH;FMTTYPE=image/png:https://events.annexwealth.com/wp-content/uploads/sites/3/2024/01/WW-Sandwich-Generation.png
END:VEVENT
BEGIN:VEVENT
DTSTART;TZID=America/Chicago:20240815T180000
DTEND;TZID=America/Chicago:20240815T200000
DTSTAMP:20260419T185610
CREATED:20240709T202833Z
LAST-MODIFIED:20240709T202833Z
UID:1378691-1723744800-1723752000@events.annexwealth.com
SUMMARY:WOMEN & WEALTH | The Sandwich Generation | 8/15/24
DESCRIPTION:Join us every Third Thursday for an interactive presentation where we will be discussing key financial topics. \nAlmost half of American adults between the ages of 40-59 are “sandwiched” between aging parents and taking care of  their own children (even adult ones) in some capacity.  Join us as we discuss challenges of caretaking  for multiple generations and share our own coping strategies.
URL:https://events.annexwealth.com/event/women-wealth-the-sandwich-generation-8-15-24-2/
LOCATION:WI
CATEGORIES:Women & Wealth
ATTACH;FMTTYPE=image/png:https://events.annexwealth.com/wp-content/uploads/sites/3/2024/01/WW-Sandwich-Generation.png
END:VEVENT
END:VCALENDAR