BEGIN:VCALENDAR
VERSION:2.0
PRODID:-//Annex Wealth Management - ECPv6.15.20//NONSGML v1.0//EN
CALSCALE:GREGORIAN
METHOD:PUBLISH
X-ORIGINAL-URL:https://events.annexwealth.com
X-WR-CALDESC:Events for Annex Wealth Management
REFRESH-INTERVAL;VALUE=DURATION:PT1H
X-Robots-Tag:noindex
X-PUBLISHED-TTL:PT1H
BEGIN:VTIMEZONE
TZID:America/Chicago
BEGIN:DAYLIGHT
TZOFFSETFROM:-0600
TZOFFSETTO:-0500
TZNAME:CDT
DTSTART:20230312T080000
END:DAYLIGHT
BEGIN:STANDARD
TZOFFSETFROM:-0500
TZOFFSETTO:-0600
TZNAME:CST
DTSTART:20231105T070000
END:STANDARD
BEGIN:DAYLIGHT
TZOFFSETFROM:-0600
TZOFFSETTO:-0500
TZNAME:CDT
DTSTART:20240310T080000
END:DAYLIGHT
BEGIN:STANDARD
TZOFFSETFROM:-0500
TZOFFSETTO:-0600
TZNAME:CST
DTSTART:20241103T070000
END:STANDARD
BEGIN:DAYLIGHT
TZOFFSETFROM:-0600
TZOFFSETTO:-0500
TZNAME:CDT
DTSTART:20250309T080000
END:DAYLIGHT
BEGIN:STANDARD
TZOFFSETFROM:-0500
TZOFFSETTO:-0600
TZNAME:CST
DTSTART:20251102T070000
END:STANDARD
END:VTIMEZONE
BEGIN:VEVENT
DTSTART;TZID=America/Chicago:20240725T170000
DTEND;TZID=America/Chicago:20240725T190000
DTSTAMP:20260419T203041
CREATED:20240708T211805Z
LAST-MODIFIED:20240708T211805Z
UID:13737-1721926800-1721934000@events.annexwealth.com
SUMMARY:PFISTER | Summer Splash: Unveiling Upcoming Events At The Pfister | 7/25/24
DESCRIPTION:Come meet our new Branch Director and team at the Pfister Annex Wealth Management office to hear what’s in store for the remainder of 2024 and beyond. This posh\, nosh and pour event will tantalize! Join us between 5:00 and 7:00 p.m. on July 25th and bring a friend. You don’t want to miss the unveiling of events and thought commentary on our new Conversation Circles for executive women to be held at our Pfister offices in 2025 – engaging discussions around pressing topics such as imposter syndrome\, the glass ceiling and negotiating executive benefits in today’s environment. \n  \nThe Pfister Hotel \nThe Rouge Ballroom (Main floor to the right of reception) \n424 E Wisconsin Ave \nMilwaukee WI\, 53202
URL:https://events.annexwealth.com/event/summer-splash-unveiling-upcoming-events-at-the-pfister/
LOCATION:WI
ATTACH;FMTTYPE=image/png:https://events.annexwealth.com/wp-content/uploads/sites/3/2024/07/summer-splash.png
END:VEVENT
BEGIN:VEVENT
DTSTART;TZID=America/Chicago:20240725T170000
DTEND;TZID=America/Chicago:20240725T190000
DTSTAMP:20260419T203041
CREATED:20240708T211805Z
LAST-MODIFIED:20240708T211805Z
UID:1378690-1721926800-1721934000@events.annexwealth.com
SUMMARY:PFISTER | Summer Splash: Unveiling Upcoming Events At The Pfister | 7/25/24
DESCRIPTION:Come meet our new Branch Director and team at the Pfister Annex Wealth Management office to hear what’s in store for the remainder of 2024 and beyond. This posh\, nosh and pour event will tantalize! Join us between 5:00 and 7:00 p.m. on July 25th and bring a friend. You don’t want to miss the unveiling of events and thought commentary on our new Conversation Circles for executive women to be held at our Pfister offices in 2025 – engaging discussions around pressing topics such as imposter syndrome\, the glass ceiling and negotiating executive benefits in today’s environment. \n  \nThe Pfister Hotel \nThe Rouge Ballroom (Main floor to the right of reception) \n424 E Wisconsin Ave \nMilwaukee WI\, 53202
URL:https://events.annexwealth.com/event/summer-splash-unveiling-upcoming-events-at-the-pfister-2/
LOCATION:WI
ATTACH;FMTTYPE=image/png:https://events.annexwealth.com/wp-content/uploads/sites/3/2024/07/summer-splash.png
END:VEVENT
END:VCALENDAR