BEGIN:VCALENDAR
VERSION:2.0
PRODID:-//Annex Wealth Management - ECPv6.15.20//NONSGML v1.0//EN
CALSCALE:GREGORIAN
METHOD:PUBLISH
X-ORIGINAL-URL:https://events.annexwealth.com
X-WR-CALDESC:Events for Annex Wealth Management
REFRESH-INTERVAL;VALUE=DURATION:PT1H
X-Robots-Tag:noindex
X-PUBLISHED-TTL:PT1H
BEGIN:VTIMEZONE
TZID:America/Chicago
BEGIN:DAYLIGHT
TZOFFSETFROM:-0600
TZOFFSETTO:-0500
TZNAME:CDT
DTSTART:20230312T080000
END:DAYLIGHT
BEGIN:STANDARD
TZOFFSETFROM:-0500
TZOFFSETTO:-0600
TZNAME:CST
DTSTART:20231105T070000
END:STANDARD
BEGIN:DAYLIGHT
TZOFFSETFROM:-0600
TZOFFSETTO:-0500
TZNAME:CDT
DTSTART:20240310T080000
END:DAYLIGHT
BEGIN:STANDARD
TZOFFSETFROM:-0500
TZOFFSETTO:-0600
TZNAME:CST
DTSTART:20241103T070000
END:STANDARD
BEGIN:DAYLIGHT
TZOFFSETFROM:-0600
TZOFFSETTO:-0500
TZNAME:CDT
DTSTART:20250309T080000
END:DAYLIGHT
BEGIN:STANDARD
TZOFFSETFROM:-0500
TZOFFSETTO:-0600
TZNAME:CST
DTSTART:20251102T070000
END:STANDARD
END:VTIMEZONE
BEGIN:VEVENT
DTSTART;TZID=America/Chicago:20240723T120000
DTEND;TZID=America/Chicago:20240723T130000
DTSTAMP:20260419T203034
CREATED:20240701T174057Z
LAST-MODIFIED:20240701T174057Z
UID:13728-1721736000-1721739600@events.annexwealth.com
SUMMARY:WEBINAR | Election Impact On 2025: Taxes\, Markets and the Economy | 7/23/24
DESCRIPTION:In this interactive learning session\, Annex Wealth Management’s Dave Spano and Dr. Brian Jacobsen join WISN’s Dan O’Donnell to discuss how the results of the 2024 Election could affect you\, the taxes you’ll pay\, and your investments.
URL:https://events.annexwealth.com/event/election-impact-on-2025-taxes-markets-and-the-economy/
LOCATION:WI
CATEGORIES:It's Your Money
ATTACH;FMTTYPE=image/png:https://events.annexwealth.com/wp-content/uploads/sites/3/2024/07/Image20240701123910.png
END:VEVENT
BEGIN:VEVENT
DTSTART;TZID=America/Chicago:20240723T120000
DTEND;TZID=America/Chicago:20240723T130000
DTSTAMP:20260419T203034
CREATED:20240701T174057Z
LAST-MODIFIED:20240701T174057Z
UID:1378689-1721736000-1721739600@events.annexwealth.com
SUMMARY:WEBINAR | Election Impact On 2025: Taxes\, Markets and the Economy | 7/23/24
DESCRIPTION:In this interactive learning session\, Annex Wealth Management’s Dave Spano and Dr. Brian Jacobsen join WISN’s Dan O’Donnell to discuss how the results of the 2024 Election could affect you\, the taxes you’ll pay\, and your investments.
URL:https://events.annexwealth.com/event/election-impact-on-2025-taxes-markets-and-the-economy-2/
LOCATION:WI
CATEGORIES:It's Your Money
ATTACH;FMTTYPE=image/png:https://events.annexwealth.com/wp-content/uploads/sites/3/2024/07/Image20240701123910.png
END:VEVENT
END:VCALENDAR