BEGIN:VCALENDAR
VERSION:2.0
PRODID:-//Annex Wealth Management - ECPv6.15.20//NONSGML v1.0//EN
CALSCALE:GREGORIAN
METHOD:PUBLISH
X-ORIGINAL-URL:https://events.annexwealth.com
X-WR-CALDESC:Events for Annex Wealth Management
REFRESH-INTERVAL;VALUE=DURATION:PT1H
X-Robots-Tag:noindex
X-PUBLISHED-TTL:PT1H
BEGIN:VTIMEZONE
TZID:America/Chicago
BEGIN:DAYLIGHT
TZOFFSETFROM:-0600
TZOFFSETTO:-0500
TZNAME:CDT
DTSTART:20230312T080000
END:DAYLIGHT
BEGIN:STANDARD
TZOFFSETFROM:-0500
TZOFFSETTO:-0600
TZNAME:CST
DTSTART:20231105T070000
END:STANDARD
BEGIN:DAYLIGHT
TZOFFSETFROM:-0600
TZOFFSETTO:-0500
TZNAME:CDT
DTSTART:20240310T080000
END:DAYLIGHT
BEGIN:STANDARD
TZOFFSETFROM:-0500
TZOFFSETTO:-0600
TZNAME:CST
DTSTART:20241103T070000
END:STANDARD
BEGIN:DAYLIGHT
TZOFFSETFROM:-0600
TZOFFSETTO:-0500
TZNAME:CDT
DTSTART:20250309T080000
END:DAYLIGHT
BEGIN:STANDARD
TZOFFSETFROM:-0500
TZOFFSETTO:-0600
TZNAME:CST
DTSTART:20251102T070000
END:STANDARD
END:VTIMEZONE
BEGIN:VEVENT
DTSTART;TZID=America/Chicago:20240718T180000
DTEND;TZID=America/Chicago:20240718T200000
DTSTAMP:20260419T203034
CREATED:20240612T203548Z
LAST-MODIFIED:20240612T203548Z
UID:13687-1721325600-1721332800@events.annexwealth.com
SUMMARY:WOMEN & WEALTH | An Evening Garden Tour | 7/18/24
DESCRIPTION:Meet other garden enthusiasts in this casual evening\, as we tour the Boerner Botanical Gardens in full bloom with a gardening expert and share our own best practices that make our gardens flourish.
URL:https://events.annexwealth.com/event/women-wealth-an-evening-garden-tour-7-18-24/
LOCATION:WI
ATTACH;FMTTYPE=image/png:https://events.annexwealth.com/wp-content/uploads/sites/3/2024/06/WW-Evening-Garden-Tour.png
END:VEVENT
BEGIN:VEVENT
DTSTART;TZID=America/Chicago:20240718T180000
DTEND;TZID=America/Chicago:20240718T200000
DTSTAMP:20260419T203034
CREATED:20240612T203548Z
LAST-MODIFIED:20240612T203548Z
UID:1378684-1721325600-1721332800@events.annexwealth.com
SUMMARY:WOMEN & WEALTH | An Evening Garden Tour | 7/18/24
DESCRIPTION:Meet other garden enthusiasts in this casual evening\, as we tour the Boerner Botanical Gardens in full bloom with a gardening expert and share our own best practices that make our gardens flourish.
URL:https://events.annexwealth.com/event/women-wealth-an-evening-garden-tour-7-18-24-2/
LOCATION:WI
ATTACH;FMTTYPE=image/png:https://events.annexwealth.com/wp-content/uploads/sites/3/2024/06/WW-Evening-Garden-Tour.png
END:VEVENT
END:VCALENDAR