BEGIN:VCALENDAR
VERSION:2.0
PRODID:-//Annex Wealth Management - ECPv6.15.20//NONSGML v1.0//EN
CALSCALE:GREGORIAN
METHOD:PUBLISH
X-WR-CALNAME:Annex Wealth Management
X-ORIGINAL-URL:https://events.annexwealth.com
X-WR-CALDESC:Events for Annex Wealth Management
REFRESH-INTERVAL;VALUE=DURATION:PT1H
X-Robots-Tag:noindex
X-PUBLISHED-TTL:PT1H
BEGIN:VTIMEZONE
TZID:America/Chicago
BEGIN:DAYLIGHT
TZOFFSETFROM:-0600
TZOFFSETTO:-0500
TZNAME:CDT
DTSTART:20230312T080000
END:DAYLIGHT
BEGIN:STANDARD
TZOFFSETFROM:-0500
TZOFFSETTO:-0600
TZNAME:CST
DTSTART:20231105T070000
END:STANDARD
BEGIN:DAYLIGHT
TZOFFSETFROM:-0600
TZOFFSETTO:-0500
TZNAME:CDT
DTSTART:20240310T080000
END:DAYLIGHT
BEGIN:STANDARD
TZOFFSETFROM:-0500
TZOFFSETTO:-0600
TZNAME:CST
DTSTART:20241103T070000
END:STANDARD
BEGIN:DAYLIGHT
TZOFFSETFROM:-0600
TZOFFSETTO:-0500
TZNAME:CDT
DTSTART:20250309T080000
END:DAYLIGHT
BEGIN:STANDARD
TZOFFSETFROM:-0500
TZOFFSETTO:-0600
TZNAME:CST
DTSTART:20251102T070000
END:STANDARD
END:VTIMEZONE
BEGIN:VEVENT
DTSTART;TZID=America/Chicago:20240711T120000
DTEND;TZID=America/Chicago:20240711T130000
DTSTAMP:20260419T202858
CREATED:20240625T172249Z
LAST-MODIFIED:20240625T172249Z
UID:13721-1720699200-1720702800@events.annexwealth.com
SUMMARY:WEBINAR | Election Year Investment Myths | 7/11/24
DESCRIPTION:Join Tom Parks\, AIF®\, CRPS and Deanne Phillips\, CFP®\, CDFA®\, ABFP℠\, as they review some common investing myths that tend to pop up during an election year and how to prudently navigate those “rules of thumb” as you calibrate your financial plan.
URL:https://events.annexwealth.com/event/webinar-election-year-investment-myths-7-11-24/
LOCATION:WI
ATTACH;FMTTYPE=image/png:https://events.annexwealth.com/wp-content/uploads/sites/3/2024/01/Election-Year-Investment-Myths.png
END:VEVENT
BEGIN:VEVENT
DTSTART;TZID=America/Chicago:20240711T120000
DTEND;TZID=America/Chicago:20240711T130000
DTSTAMP:20260419T202858
CREATED:20240625T172249Z
LAST-MODIFIED:20240625T172249Z
UID:1378687-1720699200-1720702800@events.annexwealth.com
SUMMARY:WEBINAR | Election Year Investment Myths | 7/11/24
DESCRIPTION:Join Tom Parks\, AIF®\, CRPS and Deanne Phillips\, CFP®\, CDFA®\, ABFP℠\, as they review some common investing myths that tend to pop up during an election year and how to prudently navigate those “rules of thumb” as you calibrate your financial plan.
URL:https://events.annexwealth.com/event/webinar-election-year-investment-myths-7-11-24-2/
LOCATION:WI
ATTACH;FMTTYPE=image/png:https://events.annexwealth.com/wp-content/uploads/sites/3/2024/01/Election-Year-Investment-Myths.png
END:VEVENT
BEGIN:VEVENT
DTSTART;TZID=America/Chicago:20240711T160000
DTEND;TZID=America/Chicago:20240711T170000
DTSTAMP:20260419T202858
CREATED:20240620T173813Z
LAST-MODIFIED:20240620T173813Z
UID:1378685-1720713600-1720717200@events.annexwealth.com
SUMMARY:WEBINAR | Investment Intel: An In-Depth Briefing On The Markets | 7/11/24
DESCRIPTION:Insights on how to manage the cash and fixed income portion of your portfolio. \nJoin us every month for Investment Intel\, an interactive presentation brief from Annex Wealth Management. Each Investment Intel briefing will take a look at where we are and where we believe we’re headed\, including insights and trends that will help you make sense of the financial markets and the economy.
URL:https://events.annexwealth.com/event/webinar-investment-intel-an-in-depth-briefing-on-the-markets-7-11-24-2/
LOCATION:WI
ATTACH;FMTTYPE=image/jpeg:https://events.annexwealth.com/wp-content/uploads/sites/3/2024/04/Image20240401130354.jpg
END:VEVENT
BEGIN:VEVENT
DTSTART;TZID=America/Chicago:20240711T160000
DTEND;TZID=America/Chicago:20240711T170000
DTSTAMP:20260419T202858
CREATED:20240620T173813Z
LAST-MODIFIED:20240620T173813Z
UID:13704-1720713600-1720717200@events.annexwealth.com
SUMMARY:WEBINAR | Investment Intel: An In-Depth Briefing On The Markets | 7/11/24
DESCRIPTION:Insights on how to manage the cash and fixed income portion of your portfolio. \nJoin us every month for Investment Intel\, an interactive presentation brief from Annex Wealth Management. Each Investment Intel briefing will take a look at where we are and where we believe we’re headed\, including insights and trends that will help you make sense of the financial markets and the economy.
URL:https://events.annexwealth.com/event/webinar-investment-intel-an-in-depth-briefing-on-the-markets-7-11-24/
LOCATION:WI
ATTACH;FMTTYPE=image/jpeg:https://events.annexwealth.com/wp-content/uploads/sites/3/2024/04/Image20240401130354.jpg
END:VEVENT
END:VCALENDAR