BEGIN:VCALENDAR
VERSION:2.0
PRODID:-//Annex Wealth Management - ECPv6.15.20//NONSGML v1.0//EN
CALSCALE:GREGORIAN
METHOD:PUBLISH
X-ORIGINAL-URL:https://events.annexwealth.com
X-WR-CALDESC:Events for Annex Wealth Management
REFRESH-INTERVAL;VALUE=DURATION:PT1H
X-Robots-Tag:noindex
X-PUBLISHED-TTL:PT1H
BEGIN:VTIMEZONE
TZID:America/Chicago
BEGIN:DAYLIGHT
TZOFFSETFROM:-0600
TZOFFSETTO:-0500
TZNAME:CDT
DTSTART:20230312T080000
END:DAYLIGHT
BEGIN:STANDARD
TZOFFSETFROM:-0500
TZOFFSETTO:-0600
TZNAME:CST
DTSTART:20231105T070000
END:STANDARD
BEGIN:DAYLIGHT
TZOFFSETFROM:-0600
TZOFFSETTO:-0500
TZNAME:CDT
DTSTART:20240310T080000
END:DAYLIGHT
BEGIN:STANDARD
TZOFFSETFROM:-0500
TZOFFSETTO:-0600
TZNAME:CST
DTSTART:20241103T070000
END:STANDARD
BEGIN:DAYLIGHT
TZOFFSETFROM:-0600
TZOFFSETTO:-0500
TZNAME:CDT
DTSTART:20250309T080000
END:DAYLIGHT
BEGIN:STANDARD
TZOFFSETFROM:-0500
TZOFFSETTO:-0600
TZNAME:CST
DTSTART:20251102T070000
END:STANDARD
END:VTIMEZONE
BEGIN:VEVENT
DTSTART;TZID=America/Chicago:20240620T140000
DTEND;TZID=America/Chicago:20240620T150000
DTSTAMP:20260419T221344
CREATED:20240604T181951Z
LAST-MODIFIED:20240604T181951Z
UID:1378683-1718892000-1718895600@events.annexwealth.com
SUMMARY:WEBINAR | Tax-Smart Planning Strategies | 6/20/24
DESCRIPTION:You might think the goal of tax planning is to pay as little as possible now. Low taxes are meaningful\, but understanding your overall financial picture might help you think more strategically about your tax picture through your retirement and after you’ve passed. What should you consider as you make your tax plan? Join us for Tax-Smart Planning Strategies\, an interactive workshop where members of the Annex team will review various tax planning situations and options you may want to consider. We’ll go through updates in law and take your questions in a fast-moving workshop. If you can’t make it at that time\, go ahead and register and we will send a recording.
URL:https://events.annexwealth.com/event/webinar-tax-smart-planning-strategies-6-20-24-2/
LOCATION:WI
ATTACH;FMTTYPE=image/png:https://events.annexwealth.com/wp-content/uploads/sites/3/2024/06/Tax-Smart-Graphic-smaller.png
END:VEVENT
BEGIN:VEVENT
DTSTART;TZID=America/Chicago:20240620T140000
DTEND;TZID=America/Chicago:20240620T150000
DTSTAMP:20260419T221344
CREATED:20240604T181951Z
LAST-MODIFIED:20240604T181951Z
UID:13666-1718892000-1718895600@events.annexwealth.com
SUMMARY:WEBINAR | Tax-Smart Planning Strategies | 6/20/24
DESCRIPTION:You might think the goal of tax planning is to pay as little as possible now. Low taxes are meaningful\, but understanding your overall financial picture might help you think more strategically about your tax picture through your retirement and after you’ve passed. What should you consider as you make your tax plan? Join us for Tax-Smart Planning Strategies\, an interactive workshop where members of the Annex team will review various tax planning situations and options you may want to consider. We’ll go through updates in law and take your questions in a fast-moving workshop. If you can’t make it at that time\, go ahead and register and we will send a recording.
URL:https://events.annexwealth.com/event/webinar-tax-smart-planning-strategies-6-20-24/
LOCATION:WI
ATTACH;FMTTYPE=image/png:https://events.annexwealth.com/wp-content/uploads/sites/3/2024/06/Tax-Smart-Graphic-smaller.png
END:VEVENT
BEGIN:VEVENT
DTSTART;TZID=America/Chicago:20240620T180000
DTEND;TZID=America/Chicago:20240620T200000
DTSTAMP:20260419T221344
CREATED:20240402T185043Z
LAST-MODIFIED:20240402T185043Z
UID:1378668-1718906400-1718913600@events.annexwealth.com
SUMMARY:WOMEN & WEALTH | Making The Most Of Medicare | 6/20/24
DESCRIPTION:Join us every Third Thursday for an interactive presentation where we will be discussing key financial topics. \nFor those ready to start  Medicare\, specialist Melinda Caughill of i65 and Deanne Phillips decipher the different parts\, including what you might not know about advantage plans. Uncover tips & best practices and learn about what you can do to avoid numerous Medicare pitfalls.
URL:https://events.annexwealth.com/event/women-wealth-making-the-most-of-medicare-2/
LOCATION:WI
ATTACH;FMTTYPE=image/png:https://events.annexwealth.com/wp-content/uploads/sites/3/2024/04/WW-Making-The-Most-Of-Medicare.png
END:VEVENT
BEGIN:VEVENT
DTSTART;TZID=America/Chicago:20240620T180000
DTEND;TZID=America/Chicago:20240620T200000
DTSTAMP:20260419T221345
CREATED:20240402T185043Z
LAST-MODIFIED:20240402T185043Z
UID:13531-1718906400-1718913600@events.annexwealth.com
SUMMARY:WOMEN & WEALTH | Making The Most Of Medicare | 6/20/24
DESCRIPTION:Join us every Third Thursday for an interactive presentation where we will be discussing key financial topics. \nFor those ready to start  Medicare\, specialist Melinda Caughill of i65 and Deanne Phillips decipher the different parts\, including what you might not know about advantage plans. Uncover tips & best practices and learn about what you can do to avoid numerous Medicare pitfalls.
URL:https://events.annexwealth.com/event/women-wealth-making-the-most-of-medicare/
LOCATION:WI
ATTACH;FMTTYPE=image/png:https://events.annexwealth.com/wp-content/uploads/sites/3/2024/04/WW-Making-The-Most-Of-Medicare.png
END:VEVENT
END:VCALENDAR