BEGIN:VCALENDAR
VERSION:2.0
PRODID:-//Annex Wealth Management - ECPv6.15.20//NONSGML v1.0//EN
CALSCALE:GREGORIAN
METHOD:PUBLISH
X-ORIGINAL-URL:https://events.annexwealth.com
X-WR-CALDESC:Events for Annex Wealth Management
REFRESH-INTERVAL;VALUE=DURATION:PT1H
X-Robots-Tag:noindex
X-PUBLISHED-TTL:PT1H
BEGIN:VTIMEZONE
TZID:America/Chicago
BEGIN:DAYLIGHT
TZOFFSETFROM:-0600
TZOFFSETTO:-0500
TZNAME:CDT
DTSTART:20230312T080000
END:DAYLIGHT
BEGIN:STANDARD
TZOFFSETFROM:-0500
TZOFFSETTO:-0600
TZNAME:CST
DTSTART:20231105T070000
END:STANDARD
BEGIN:DAYLIGHT
TZOFFSETFROM:-0600
TZOFFSETTO:-0500
TZNAME:CDT
DTSTART:20240310T080000
END:DAYLIGHT
BEGIN:STANDARD
TZOFFSETFROM:-0500
TZOFFSETTO:-0600
TZNAME:CST
DTSTART:20241103T070000
END:STANDARD
BEGIN:DAYLIGHT
TZOFFSETFROM:-0600
TZOFFSETTO:-0500
TZNAME:CDT
DTSTART:20250309T080000
END:DAYLIGHT
BEGIN:STANDARD
TZOFFSETFROM:-0500
TZOFFSETTO:-0600
TZNAME:CST
DTSTART:20251102T070000
END:STANDARD
END:VTIMEZONE
BEGIN:VEVENT
DTSTART;TZID=America/Chicago:20240605T180000
DTEND;TZID=America/Chicago:20240605T200000
DTSTAMP:20260419T215816
CREATED:20240503T164301Z
LAST-MODIFIED:20240503T164301Z
UID:13584-1717610400-1717617600@events.annexwealth.com
SUMMARY:MADISON | Women's Guide to Preparing for the Unexpected | 6/5/24
DESCRIPTION:A comprehensive guide to planning and preparing for the  unexpected! \nWe’ll be examining financial transitions that many women encounter\, whether single or married\, and discussing resources to be considered in  preparing for our future. This is the first step in creating our Emergency Binder: “What I want my family to know.” \n 
URL:https://events.annexwealth.com/event/madison-womens-guide-to-preparing-for-the-unexpected-6-5-24/
LOCATION:WI
ATTACH;FMTTYPE=image/png:https://events.annexwealth.com/wp-content/uploads/sites/3/2023/01/Womens-Guide-To-Preparing-For-The-Unexpected.png
END:VEVENT
BEGIN:VEVENT
DTSTART;TZID=America/Chicago:20240605T180000
DTEND;TZID=America/Chicago:20240605T200000
DTSTAMP:20260419T215816
CREATED:20240503T164301Z
LAST-MODIFIED:20240503T164301Z
UID:1378674-1717610400-1717617600@events.annexwealth.com
SUMMARY:MADISON | Women's Guide to Preparing for the Unexpected | 6/5/24
DESCRIPTION:A comprehensive guide to planning and preparing for the  unexpected! \nWe’ll be examining financial transitions that many women encounter\, whether single or married\, and discussing resources to be considered in  preparing for our future. This is the first step in creating our Emergency Binder: “What I want my family to know.” \n 
URL:https://events.annexwealth.com/event/madison-womens-guide-to-preparing-for-the-unexpected-6-5-24-2/
LOCATION:WI
ATTACH;FMTTYPE=image/png:https://events.annexwealth.com/wp-content/uploads/sites/3/2023/01/Womens-Guide-To-Preparing-For-The-Unexpected.png
END:VEVENT
END:VCALENDAR