BEGIN:VCALENDAR
VERSION:2.0
PRODID:-//Annex Wealth Management - ECPv6.15.20//NONSGML v1.0//EN
CALSCALE:GREGORIAN
METHOD:PUBLISH
X-ORIGINAL-URL:https://events.annexwealth.com
X-WR-CALDESC:Events for Annex Wealth Management
REFRESH-INTERVAL;VALUE=DURATION:PT1H
X-Robots-Tag:noindex
X-PUBLISHED-TTL:PT1H
BEGIN:VTIMEZONE
TZID:America/Chicago
BEGIN:DAYLIGHT
TZOFFSETFROM:-0600
TZOFFSETTO:-0500
TZNAME:CDT
DTSTART:20230312T080000
END:DAYLIGHT
BEGIN:STANDARD
TZOFFSETFROM:-0500
TZOFFSETTO:-0600
TZNAME:CST
DTSTART:20231105T070000
END:STANDARD
BEGIN:DAYLIGHT
TZOFFSETFROM:-0600
TZOFFSETTO:-0500
TZNAME:CDT
DTSTART:20240310T080000
END:DAYLIGHT
BEGIN:STANDARD
TZOFFSETFROM:-0500
TZOFFSETTO:-0600
TZNAME:CST
DTSTART:20241103T070000
END:STANDARD
BEGIN:DAYLIGHT
TZOFFSETFROM:-0600
TZOFFSETTO:-0500
TZNAME:CDT
DTSTART:20250309T080000
END:DAYLIGHT
BEGIN:STANDARD
TZOFFSETFROM:-0500
TZOFFSETTO:-0600
TZNAME:CST
DTSTART:20251102T070000
END:STANDARD
END:VTIMEZONE
BEGIN:VEVENT
DTSTART;TZID=America/Chicago:20240523T140000
DTEND;TZID=America/Chicago:20240523T150000
DTSTAMP:20260419T234043
CREATED:20240506T124153Z
LAST-MODIFIED:20240506T124153Z
UID:13592-1716472800-1716476400@events.annexwealth.com
SUMMARY:WEBINAR | Investigating Bonds: Corporate vs. Munis | 5/23/24
DESCRIPTION:Bonds often play a part in a balanced portfolio. As the Fed discusses potential changes in interest rates\, investors have more questions about how to manage bonds\, and what types of bonds make sense at this time. In this workshop\, we’ll discuss the current bond environment\, and the role different types of bonds could play in your portfolio.\n\n\nThis webinar begins at 2:00 PM CT/3:00 PM ET
URL:https://events.annexwealth.com/event/webinar-investigating-bonds-corporate-vs-munis-5-23-24/
LOCATION:WI
ATTACH;FMTTYPE=image/jpeg:https://events.annexwealth.com/wp-content/uploads/sites/3/2024/04/Investigating-Bonds_Corp-Vs-Munis.jpg
END:VEVENT
BEGIN:VEVENT
DTSTART;TZID=America/Chicago:20240523T140000
DTEND;TZID=America/Chicago:20240523T150000
DTSTAMP:20260419T234043
CREATED:20240506T124153Z
LAST-MODIFIED:20240506T124153Z
UID:1378675-1716472800-1716476400@events.annexwealth.com
SUMMARY:WEBINAR | Investigating Bonds: Corporate vs. Munis | 5/23/24
DESCRIPTION:Bonds often play a part in a balanced portfolio. As the Fed discusses potential changes in interest rates\, investors have more questions about how to manage bonds\, and what types of bonds make sense at this time. In this workshop\, we’ll discuss the current bond environment\, and the role different types of bonds could play in your portfolio.\n\n\nThis webinar begins at 2:00 PM CT/3:00 PM ET
URL:https://events.annexwealth.com/event/webinar-investigating-bonds-corporate-vs-munis-5-23-24-2/
LOCATION:WI
ATTACH;FMTTYPE=image/jpeg:https://events.annexwealth.com/wp-content/uploads/sites/3/2024/04/Investigating-Bonds_Corp-Vs-Munis.jpg
END:VEVENT
END:VCALENDAR