BEGIN:VCALENDAR
VERSION:2.0
PRODID:-//Annex Wealth Management - ECPv6.15.20//NONSGML v1.0//EN
CALSCALE:GREGORIAN
METHOD:PUBLISH
X-ORIGINAL-URL:https://events.annexwealth.com
X-WR-CALDESC:Events for Annex Wealth Management
REFRESH-INTERVAL;VALUE=DURATION:PT1H
X-Robots-Tag:noindex
X-PUBLISHED-TTL:PT1H
BEGIN:VTIMEZONE
TZID:America/Chicago
BEGIN:DAYLIGHT
TZOFFSETFROM:-0600
TZOFFSETTO:-0500
TZNAME:CDT
DTSTART:20230312T080000
END:DAYLIGHT
BEGIN:STANDARD
TZOFFSETFROM:-0500
TZOFFSETTO:-0600
TZNAME:CST
DTSTART:20231105T070000
END:STANDARD
BEGIN:DAYLIGHT
TZOFFSETFROM:-0600
TZOFFSETTO:-0500
TZNAME:CDT
DTSTART:20240310T080000
END:DAYLIGHT
BEGIN:STANDARD
TZOFFSETFROM:-0500
TZOFFSETTO:-0600
TZNAME:CST
DTSTART:20241103T070000
END:STANDARD
BEGIN:DAYLIGHT
TZOFFSETFROM:-0600
TZOFFSETTO:-0500
TZNAME:CDT
DTSTART:20250309T080000
END:DAYLIGHT
BEGIN:STANDARD
TZOFFSETFROM:-0500
TZOFFSETTO:-0600
TZNAME:CST
DTSTART:20251102T070000
END:STANDARD
END:VTIMEZONE
BEGIN:VEVENT
DTSTART;TZID=America/Chicago:20240509T160000
DTEND;TZID=America/Chicago:20240509T173000
DTSTAMP:20260419T234211
CREATED:20240429T174012Z
LAST-MODIFIED:20240429T174012Z
UID:13573-1715270400-1715275800@events.annexwealth.com
SUMMARY:Mequon | Investment Intel: An In Depth Brief on the Markets | 5/9/24
DESCRIPTION:Join us for Investment Intel\, an interactive presentation brief from Annex Wealth Management. Each Investment Intel Briefing will take a look at where we are and where we believe we’re headed\, including insights and trends that will help you make sense of the economy. \nIn May we’re hosting this presentation at our MEQUON branch location: \nMequon | 12200 Corporate Parkway\, Suite #800\, Mequon WI 53092 \nREGISTER FOR MEQUON \n 
URL:https://events.annexwealth.com/event/mequon-investment-intel-an-in-depth-brief-on-the-markets-5-9-24/
LOCATION:WI
ATTACH;FMTTYPE=image/jpeg:https://events.annexwealth.com/wp-content/uploads/sites/3/2024/04/Image20240401130354.jpg
END:VEVENT
BEGIN:VEVENT
DTSTART;TZID=America/Chicago:20240509T160000
DTEND;TZID=America/Chicago:20240509T173000
DTSTAMP:20260419T234211
CREATED:20240429T174012Z
LAST-MODIFIED:20240429T174012Z
UID:1378673-1715270400-1715275800@events.annexwealth.com
SUMMARY:Mequon | Investment Intel: An In Depth Brief on the Markets | 5/9/24
DESCRIPTION:Join us for Investment Intel\, an interactive presentation brief from Annex Wealth Management. Each Investment Intel Briefing will take a look at where we are and where we believe we’re headed\, including insights and trends that will help you make sense of the economy. \nIn May we’re hosting this presentation at our MEQUON branch location: \nMequon | 12200 Corporate Parkway\, Suite #800\, Mequon WI 53092 \nREGISTER FOR MEQUON \n 
URL:https://events.annexwealth.com/event/mequon-investment-intel-an-in-depth-brief-on-the-markets-5-9-24-2/
LOCATION:WI
ATTACH;FMTTYPE=image/jpeg:https://events.annexwealth.com/wp-content/uploads/sites/3/2024/04/Image20240401130354.jpg
END:VEVENT
END:VCALENDAR