BEGIN:VCALENDAR
VERSION:2.0
PRODID:-//Annex Wealth Management - ECPv6.15.20//NONSGML v1.0//EN
CALSCALE:GREGORIAN
METHOD:PUBLISH
X-ORIGINAL-URL:https://events.annexwealth.com
X-WR-CALDESC:Events for Annex Wealth Management
REFRESH-INTERVAL;VALUE=DURATION:PT1H
X-Robots-Tag:noindex
X-PUBLISHED-TTL:PT1H
BEGIN:VTIMEZONE
TZID:America/Chicago
BEGIN:DAYLIGHT
TZOFFSETFROM:-0600
TZOFFSETTO:-0500
TZNAME:CDT
DTSTART:20230312T080000
END:DAYLIGHT
BEGIN:STANDARD
TZOFFSETFROM:-0500
TZOFFSETTO:-0600
TZNAME:CST
DTSTART:20231105T070000
END:STANDARD
BEGIN:DAYLIGHT
TZOFFSETFROM:-0600
TZOFFSETTO:-0500
TZNAME:CDT
DTSTART:20240310T080000
END:DAYLIGHT
BEGIN:STANDARD
TZOFFSETFROM:-0500
TZOFFSETTO:-0600
TZNAME:CST
DTSTART:20241103T070000
END:STANDARD
BEGIN:DAYLIGHT
TZOFFSETFROM:-0600
TZOFFSETTO:-0500
TZNAME:CDT
DTSTART:20250309T080000
END:DAYLIGHT
BEGIN:STANDARD
TZOFFSETFROM:-0500
TZOFFSETTO:-0600
TZNAME:CST
DTSTART:20251102T070000
END:STANDARD
END:VTIMEZONE
BEGIN:VEVENT
DTSTART;TZID=America/Chicago:20240410T140000
DTEND;TZID=America/Chicago:20240410T150000
DTSTAMP:20260420T011056
CREATED:20240326T171056Z
LAST-MODIFIED:20240326T171056Z
UID:13495-1712757600-1712761200@events.annexwealth.com
SUMMARY:WEBINAR | Financial Literacy Series: Are You Smarter Than A 6th Grader? | 4/10/24
DESCRIPTION:April is Financial Literacy Month. \nYou know what that means: Gameshows. At least\, the way we deliver them. Annex Wealth Management has something special for you. We’re set to bring you plenty of opportunities to sharpen your knowledge and increase your personal financial literacy skills\, all while enjoying some familiar games. \nEach week\, we’ll bring you a workshop centered on a game\, rooted in facts and insights that should help you increase your financial literacy. Don’t miss it! \nIn our most interactive workshop of the  series\, we’ll ask questions which help paint a picture of life for the American  consumer. From saving to spending\, from crypto to cash management\, give your  answers – and compare your success to our “expert” 6th grader\, Lola. What have  you learned since graduating elementary school? Here’s your chance to find out as we lay a foundation for our journey through Financial Literacy Month.
URL:https://events.annexwealth.com/event/webinar-financial-literacy-series-are-you-smarter-than-a-6th-grader/
LOCATION:WI
ATTACH;FMTTYPE=image/jpeg:https://events.annexwealth.com/wp-content/uploads/sites/3/2024/03/Webinar-1-6th-Grader-4.10.jpg
END:VEVENT
BEGIN:VEVENT
DTSTART;TZID=America/Chicago:20240410T140000
DTEND;TZID=America/Chicago:20240410T150000
DTSTAMP:20260420T011056
CREATED:20240326T171056Z
LAST-MODIFIED:20240326T171056Z
UID:1378663-1712757600-1712761200@events.annexwealth.com
SUMMARY:WEBINAR | Financial Literacy Series: Are You Smarter Than A 6th Grader? | 4/10/24
DESCRIPTION:April is Financial Literacy Month. \nYou know what that means: Gameshows. At least\, the way we deliver them. Annex Wealth Management has something special for you. We’re set to bring you plenty of opportunities to sharpen your knowledge and increase your personal financial literacy skills\, all while enjoying some familiar games. \nEach week\, we’ll bring you a workshop centered on a game\, rooted in facts and insights that should help you increase your financial literacy. Don’t miss it! \nIn our most interactive workshop of the  series\, we’ll ask questions which help paint a picture of life for the American  consumer. From saving to spending\, from crypto to cash management\, give your  answers – and compare your success to our “expert” 6th grader\, Lola. What have  you learned since graduating elementary school? Here’s your chance to find out as we lay a foundation for our journey through Financial Literacy Month.
URL:https://events.annexwealth.com/event/webinar-financial-literacy-series-are-you-smarter-than-a-6th-grader-2/
LOCATION:WI
ATTACH;FMTTYPE=image/jpeg:https://events.annexwealth.com/wp-content/uploads/sites/3/2024/03/Webinar-1-6th-Grader-4.10.jpg
END:VEVENT
END:VCALENDAR