BEGIN:VCALENDAR
VERSION:2.0
PRODID:-//Annex Wealth Management - ECPv6.15.20//NONSGML v1.0//EN
CALSCALE:GREGORIAN
METHOD:PUBLISH
X-WR-CALNAME:Annex Wealth Management
X-ORIGINAL-URL:https://events.annexwealth.com
X-WR-CALDESC:Events for Annex Wealth Management
REFRESH-INTERVAL;VALUE=DURATION:PT1H
X-Robots-Tag:noindex
X-PUBLISHED-TTL:PT1H
BEGIN:VTIMEZONE
TZID:America/Chicago
BEGIN:DAYLIGHT
TZOFFSETFROM:-0600
TZOFFSETTO:-0500
TZNAME:CDT
DTSTART:20230312T080000
END:DAYLIGHT
BEGIN:STANDARD
TZOFFSETFROM:-0500
TZOFFSETTO:-0600
TZNAME:CST
DTSTART:20231105T070000
END:STANDARD
BEGIN:DAYLIGHT
TZOFFSETFROM:-0600
TZOFFSETTO:-0500
TZNAME:CDT
DTSTART:20240310T080000
END:DAYLIGHT
BEGIN:STANDARD
TZOFFSETFROM:-0500
TZOFFSETTO:-0600
TZNAME:CST
DTSTART:20241103T070000
END:STANDARD
BEGIN:DAYLIGHT
TZOFFSETFROM:-0600
TZOFFSETTO:-0500
TZNAME:CDT
DTSTART:20250309T080000
END:DAYLIGHT
BEGIN:STANDARD
TZOFFSETFROM:-0500
TZOFFSETTO:-0600
TZNAME:CST
DTSTART:20251102T070000
END:STANDARD
END:VTIMEZONE
BEGIN:VEVENT
DTSTART;TZID=America/Chicago:20240312T100000
DTEND;TZID=America/Chicago:20240312T110000
DTSTAMP:20260420T024243
CREATED:20240304T160744Z
LAST-MODIFIED:20240304T160744Z
UID:1378659-1710237600-1710241200@events.annexwealth.com
SUMMARY:WEBINAR | Is America's Debt Economic Quicksand? What It Means To Your Financial Plan | 3/12/24
DESCRIPTION:Practically everyone has seen the foreboding headlines about debt (both personal and governmental). What does this growing amount of debt mean to the economy and our individual bottom line? In this webinar\, moderated by WTMJ’s John Mercure\, Annex Wealth Management’s President and CEO Dave Spano will answer hard questions and provide reasoned insight to cast light on your debt concerns.
URL:https://events.annexwealth.com/event/webinar-is-americas-debt-economic-quicksand-what-it-means-to-your-financial-plan-3-12-24-2/
LOCATION:WI
ATTACH;FMTTYPE=image/jpeg:https://events.annexwealth.com/wp-content/uploads/sites/3/2024/03/quicksand.jpg
END:VEVENT
BEGIN:VEVENT
DTSTART;TZID=America/Chicago:20240312T100000
DTEND;TZID=America/Chicago:20240312T110000
DTSTAMP:20260420T024243
CREATED:20240304T160744Z
LAST-MODIFIED:20240304T160744Z
UID:13451-1710237600-1710241200@events.annexwealth.com
SUMMARY:WEBINAR | Is America's Debt Economic Quicksand? What It Means To Your Financial Plan | 3/12/24
DESCRIPTION:Practically everyone has seen the foreboding headlines about debt (both personal and governmental). What does this growing amount of debt mean to the economy and our individual bottom line? In this webinar\, moderated by WTMJ’s John Mercure\, Annex Wealth Management’s President and CEO Dave Spano will answer hard questions and provide reasoned insight to cast light on your debt concerns.
URL:https://events.annexwealth.com/event/webinar-is-americas-debt-economic-quicksand-what-it-means-to-your-financial-plan-3-12-24/
LOCATION:WI
ATTACH;FMTTYPE=image/jpeg:https://events.annexwealth.com/wp-content/uploads/sites/3/2024/03/quicksand.jpg
END:VEVENT
END:VCALENDAR