BEGIN:VCALENDAR
VERSION:2.0
PRODID:-//Annex Wealth Management - ECPv6.15.20//NONSGML v1.0//EN
CALSCALE:GREGORIAN
METHOD:PUBLISH
X-ORIGINAL-URL:https://events.annexwealth.com
X-WR-CALDESC:Events for Annex Wealth Management
REFRESH-INTERVAL;VALUE=DURATION:PT1H
X-Robots-Tag:noindex
X-PUBLISHED-TTL:PT1H
BEGIN:VTIMEZONE
TZID:America/Chicago
BEGIN:DAYLIGHT
TZOFFSETFROM:-0600
TZOFFSETTO:-0500
TZNAME:CDT
DTSTART:20230312T080000
END:DAYLIGHT
BEGIN:STANDARD
TZOFFSETFROM:-0500
TZOFFSETTO:-0600
TZNAME:CST
DTSTART:20231105T070000
END:STANDARD
BEGIN:DAYLIGHT
TZOFFSETFROM:-0600
TZOFFSETTO:-0500
TZNAME:CDT
DTSTART:20240310T080000
END:DAYLIGHT
BEGIN:STANDARD
TZOFFSETFROM:-0500
TZOFFSETTO:-0600
TZNAME:CST
DTSTART:20241103T070000
END:STANDARD
BEGIN:DAYLIGHT
TZOFFSETFROM:-0600
TZOFFSETTO:-0500
TZNAME:CDT
DTSTART:20250309T080000
END:DAYLIGHT
BEGIN:STANDARD
TZOFFSETFROM:-0500
TZOFFSETTO:-0600
TZNAME:CST
DTSTART:20251102T070000
END:STANDARD
END:VTIMEZONE
BEGIN:VEVENT
DTSTART;TZID=America/Chicago:20240124T150000
DTEND;TZID=America/Chicago:20240124T160000
DTSTAMP:20260420T051925
CREATED:20240109T203136Z
LAST-MODIFIED:20240109T203136Z
UID:13090-1706108400-1706112000@events.annexwealth.com
SUMMARY:WEBINAR | Cash On The Sidelines: How To Make It Work | 1/24/24
DESCRIPTION:Insights on how to manage the cash and fixed income portion of your portfolio. \nBrian Jacobsen\, PhD\, Annex Wealth Management’s Chief Economist\, and David Spano\, President and CEO of Annex Wealth Management\, will discuss the many questions we’re hearing about the fixed income portion of portfolios – and your options as the Fed seems to hint at a slow decline in interest rates. If you have cash you’re holding\, wondering when or how to move it\, join us as we walk through fixed income in our current rate environment.  As always\, we’re leaving time for your questions during the presentation.​ \nTHIS WEBINAR BEGINS AT 3 PM CT/4 PM ET
URL:https://events.annexwealth.com/event/webinar-cash-on-the-sidelines-how-to-make-it-work-1-24-24/
LOCATION:WI
ATTACH;FMTTYPE=image/jpeg:https://events.annexwealth.com/wp-content/uploads/sites/3/2024/01/cash-on-the-sidelines-1mb-scaled-1.jpg
END:VEVENT
BEGIN:VEVENT
DTSTART;TZID=America/Chicago:20240124T150000
DTEND;TZID=America/Chicago:20240124T160000
DTSTAMP:20260420T051925
CREATED:20240109T203136Z
LAST-MODIFIED:20240109T203136Z
UID:1378641-1706108400-1706112000@events.annexwealth.com
SUMMARY:WEBINAR | Cash On The Sidelines: How To Make It Work | 1/24/24
DESCRIPTION:Insights on how to manage the cash and fixed income portion of your portfolio. \nBrian Jacobsen\, PhD\, Annex Wealth Management’s Chief Economist\, and David Spano\, President and CEO of Annex Wealth Management\, will discuss the many questions we’re hearing about the fixed income portion of portfolios – and your options as the Fed seems to hint at a slow decline in interest rates. If you have cash you’re holding\, wondering when or how to move it\, join us as we walk through fixed income in our current rate environment.  As always\, we’re leaving time for your questions during the presentation.​ \nTHIS WEBINAR BEGINS AT 3 PM CT/4 PM ET
URL:https://events.annexwealth.com/event/webinar-cash-on-the-sidelines-how-to-make-it-work-1-24-24-2/
LOCATION:WI
ATTACH;FMTTYPE=image/jpeg:https://events.annexwealth.com/wp-content/uploads/sites/3/2024/01/cash-on-the-sidelines-1mb-scaled-1.jpg
END:VEVENT
END:VCALENDAR